BEGIN:VCALENDAR
VERSION:2.0
PRODID:-//ChamberMaster//Event Calendar 2.0//EN
METHOD:PUBLISH
X-PUBLISHED-TTL:P3D
REFRESH-INTERVAL:P3D
CALSCALE:GREGORIAN
BEGIN:VEVENT
DTSTART;VALUE=DATE:20130601
DTEND;VALUE=DATE:20130728
TRANSP:TRANSPARENT
X-MICROSOFT-CDO-ALLDAYEVENT:TRUE
SUMMARY:2013 Summer Reading Club
DESCRIPTION:Come swing through the Library and our "jungle" of good books this summer during our 7-week Summer Reading Club! Report the books you've read each week to get your log stamped and a chance to spin the prize wheel. Look for the weekly "Guess How Many" jar and be sure to vote on a name for our cuddly giraffe mascot! With just 4 weeks of check-ins\, you will receive an invitation to the Summer Reading Club picnic on Friday\, August 2\, 2013.\n\n\n\nReading Requirements:\n\nPre-K - Grade 1: 28 books and 5 others*\n\nGrades 2-4: 14 books and 4 others\n\nGrades 5-8: 7 books and 3 others\n\n\n\n*Others include: magazines\, music CDs\, kits\, DVDs\, and video games
X-ALT-DESC;FMTTYPE=text/html:Come swing through the Library and our &quot\;jungle&quot\; of good books this summer during our 7-week Summer Reading Club! Report the books you&#39\;ve read each week to get your log stamped and a chance to spin the prize wheel. Look for the weekly &quot\;Guess How Many&quot\; jar and be sure to vote on a name for our cuddly giraffe mascot! With just 4 weeks of check-ins\, you will receive an invitation to the Summer Reading Club picnic on Friday\, August 2\, 2013.<br />\n<br />\nReading Requirements:<br />\nPre-K - Grade 1: 28 books and 5 others*<br />\nGrades 2-4: 14 books and 4 others<br />\nGrades 5-8: 7 books and 3 others<br />\n<br />\n*Others include: magazines\, music CDs\, kits\, DVDs\, and video games
LOCATION:Fox River Grove Memorial Library 407 Lincoln Avenue Fox River Grove\, IL 60021
UID:e.138.3796
SEQUENCE:3
DTSTAMP:20260426T000249Z
URL:https://carygrovechamber-gz26-gzcms.preview.gochambermaster.com/events/details/2013-summer-reading-club-06-01-2013-3796
END:VEVENT

END:VCALENDAR
