BEGIN:VCALENDAR
VERSION:2.0
PRODID:-//ChamberMaster//Event Calendar 2.0//EN
METHOD:PUBLISH
X-PUBLISHED-TTL:P3D
REFRESH-INTERVAL:P3D
CALSCALE:GREGORIAN
BEGIN:VEVENT
DTSTART:20161127T020000Z
DTEND:20161204T210000Z
X-MICROSOFT-CDO-ALLDAYEVENT:FALSE
SUMMARY:A Christmas Survival Guide
DESCRIPTION:November 26 - December 4 Select Weekend Dates Tickets start at $$35.50* Conceived & written by James Hindman & Ray Roderick Musical arrangements by John Glaudin Do you find the holidays more than a little stressful? This intimate revue takes a wry and knowing look at a stressful season. Armed with a copy of "A Christmas Survival Guide" and an optimistic attitude\, the characters charge into an urban holiday landscape searching for the true essence of Christmas. Filled with comedy\, poignancy\, and traditional songs of the season\, this show is designed to de-stress and refresh one and all with holiday cheer! Show Dates: November 26\, December 2\, 3 @ 8pm November 27\, December 3\, 4 @ 3pm
X-ALT-DESC;FMTTYPE=text/html:November 26 - December 4 Select Weekend Dates Tickets start at $<span style="color: rgb(34\, 34\, 34)\; font-family: arial\, sans-serif\; font-size: 12.8px\;">$35.50</span>* Conceived &amp\; written by James Hindman &amp\; Ray Roderick Musical arrangements by John Glaudin Do you find the holidays more than a little stressful? This intimate revue takes a wry and knowing look at a stressful season. Armed with a copy of &quot\;A Christmas Survival Guide&quot\; and an optimistic attitude\, the characters charge into an urban holiday landscape searching for the true essence of Christmas. Filled with comedy\, poignancy\, and traditional songs of the season\, this show is designed to de-stress and refresh one and all with holiday cheer! Show Dates: November 26\, December 2\, 3 @ 8pm November 27\, December 3\, 4 @ 3pm
LOCATION:Raue Center For The Arts
UID:e.138.6750
SEQUENCE:3
DTSTAMP:20260421T214524Z
URL:https://carygrovechamber-gz26-gzcms.preview.gochambermaster.com/events/details/a-christmas-survival-guide-11-26-2016-6750
END:VEVENT

END:VCALENDAR
