BEGIN:VCALENDAR
VERSION:2.0
PRODID:-//ChamberMaster//Event Calendar 2.0//EN
METHOD:PUBLISH
X-PUBLISHED-TTL:P3D
REFRESH-INTERVAL:P3D
CALSCALE:GREGORIAN
BEGIN:VEVENT
DTSTART:20130619T233000Z
DTEND:20130620T003000Z
X-MICROSOFT-CDO-ALLDAYEVENT:FALSE
SUMMARY:Accessing e-books
DESCRIPTION:You bought the device\, but now how do you use it? Our class will explain e-book basics for Nook\, Kindle\, and other tablets. We'll talk you through MyMediaMall\, from finding the book you want to adding it to your device. Bring your tablet and any questions! Registration required. Limited to 6 participants.
X-ALT-DESC;FMTTYPE=text/html:<p style="margin-bottom: 0in\;">\n	<span style="font-size: 12px\;"><font style="font-size: 22pt\;">You bought the device\, but now how do you use it? Our class will explain e-book basics for Nook\, Kindle\, and other tablets. We&#39\;ll talk you through MyMediaMall\, from finding the book you want to adding it to your device. Bring your tablet and any questions! Registration required. Limited to 6 participants.</font></span></p>\n
LOCATION:Fox River Grove Memorial Library 407 Lincoln Avenue Fox River Grove\, IL 60021
UID:e.138.3799
SEQUENCE:3
DTSTAMP:20260426T011941Z
URL:https://carygrovechamber-gz26-gzcms.preview.gochambermaster.com/events/details/accessing-e-books-06-19-2013-3799
END:VEVENT

END:VCALENDAR
