BEGIN:VCALENDAR
VERSION:2.0
PRODID:-//ChamberMaster//Event Calendar 2.0//EN
METHOD:PUBLISH
X-PUBLISHED-TTL:P3D
REFRESH-INTERVAL:P3D
CALSCALE:GREGORIAN
BEGIN:VEVENT
DTSTART:20180310T160000Z
DTEND:20180310T190000Z
X-MICROSOFT-CDO-ALLDAYEVENT:FALSE
SUMMARY:Achieve Footwear Blood Drive
DESCRIPTION:Achieve Footwear is teaming up with Heartland Blood Center for a Blood Drive on March 10th at the Achieve Footwear location.  All Donors will receive a FREE cheese pizza coupon from Nancy's Pizza.\n\nDid you know by donating one time you can save up to 3 lives?\n\nWe will have the Heartland Mobile Coach parked in the front parking lot from 10:00am-1:00pm.\n\nWe encourage everyone that can to come and donate!\n\nIt is recommended to call ahead to schedule an appointment\, but not necessary.\n\n\n\nHelp support your local and veteran hospitals.\n\nCall Today 815-444-7239
X-ALT-DESC;FMTTYPE=text/html:Achieve Footwear is teaming up with Heartland Blood Center for a Blood Drive on March 10th at the Achieve Footwear location.&nbsp\; All Donors will receive a FREE cheese pizza coupon from Nancy&#39\;s Pizza.<br />\nDid you know by donating one time you can save up to 3 lives?<br />\nWe will have the Heartland Mobile Coach parked in the front parking lot from 10:00am-1:00pm.<br />\nWe encourage everyone that can to come and donate!<br />\nIt is recommended to call ahead to schedule an appointment\, but not necessary.<br />\n<br />\nHelp support your local and veteran hospitals.<br />\nCall Today 815-444-7239
LOCATION:Achieve Footwear 1AW Crystal Lake Plaza Crystal Lake\, IL 60014 Front Parking Lot
UID:e.138.6964
SEQUENCE:3
DTSTAMP:20260420T191748Z
URL:https://carygrovechamber-gz26-gzcms.preview.gochambermaster.com/events/details/achieve-footwear-blood-drive-6964
END:VEVENT

END:VCALENDAR
