BEGIN:VCALENDAR
VERSION:2.0
PRODID:-//ChamberMaster//Event Calendar 2.0//EN
METHOD:PUBLISH
X-PUBLISHED-TTL:P3D
REFRESH-INTERVAL:P3D
CALSCALE:GREGORIAN
BEGIN:VEVENT
DTSTART:20190224T010000Z
DTEND:20190224T030000Z
X-MICROSOFT-CDO-ALLDAYEVENT:FALSE
SUMMARY:An Evening of Percussion
DESCRIPTION:An Evening of Percussion With the Crystal Lake Strikers A Crystal Lake FAVORITE! Returning for the 9th straight year\, this community fundraiser is always a sellout! The Crystal Lake Strikers All-Star Drumline leads multiple groups of outstanding musicians from all over the region to present a high-energy night of percussion. The Crystal Lake Strikers also award a local high school drummer with the Tim Althoff Memorial Scholarship. In the fall of 2007\, three area men sat in a local coffee shop imagining the possibilities of forming a drumline that would achieve two essential goals: 1. Provide a performing outlet for drummers of college age and beyond. 2. Support and educate aspiring young musicians. In assembling the group\, the founders discussed the simple fact that there are so many people who started playing percussion at a very young age\, stayed with it in the various bands and drum corps\, then  nothing. The people who have an outlet for musical training past high school and college are rare. They believe this drumline provides an outlet for those individuals. For more information on how to join the Crystal Lake Strikers visit clstrikers.com. Rating: G Length: Approx. 90 minutes Genre: Music
X-ALT-DESC;FMTTYPE=text/html:An Evening of Percussion With the Crystal Lake Strikers A Crystal Lake FAVORITE! Returning for the 9th straight year\, this community fundraiser is always a sellout! The Crystal Lake Strikers All-Star Drumline leads multiple groups of outstanding musicians from all over the region to present a high-energy night of percussion. The Crystal Lake Strikers also award a local high school drummer with the Tim Althoff Memorial Scholarship. In the fall of 2007\, three area men sat in a local coffee shop imagining the possibilities of forming a drumline that would achieve two essential goals: 1. Provide a performing outlet for drummers of college age and beyond. 2. Support and educate aspiring young musicians. In assembling the group\, the founders discussed the simple fact that there are so many people who started playing percussion at a very young age\, stayed with it in the various bands and drum corps\, then&hellip\; nothing. The people who have an outlet for musical training past high school and college are rare. They believe this drumline provides an outlet for those individuals. For more information on how to join the Crystal Lake Strikers visit clstrikers.com. Rating: G Length: Approx. 90 minutes Genre: Music
LOCATION:Raue Center For The Arts 26 N. Williams Street Crystal Lake\, IL 60014
UID:e.138.9462
SEQUENCE:3
DTSTAMP:20260419T212505Z
URL:https://carygrovechamber-gz26-gzcms.preview.gochambermaster.com/events/details/an-evening-of-percussion-02-23-2019-9462
END:VEVENT

END:VCALENDAR
