BEGIN:VCALENDAR
VERSION:2.0
PRODID:-//ChamberMaster//Event Calendar 2.0//EN
METHOD:PUBLISH
X-PUBLISHED-TTL:P3D
REFRESH-INTERVAL:P3D
CALSCALE:GREGORIAN
BEGIN:VEVENT
DTSTART:20130608T160000Z
DTEND:20130608T180000Z
X-MICROSOFT-CDO-ALLDAYEVENT:FALSE
SUMMARY:Animal House Adoption Event at Cary Library
DESCRIPTION:The Animal House Shelter (Huntley\, IL) will host an animal adoption event in the parking lot of the Cary Area Public Library on Saturday\, June 8\, 2013 from 11 am to 1 pm. Come meet your new "best friend\," ask questions about fostering an animal\, or make a donation (see Animal House Shelter's website\, www.animalhouseshelter.com for a list of needed items). The library will have a donation bin for Animal House donations in the outer lobby through the month of June.
X-ALT-DESC;FMTTYPE=text/html:The Animal House Shelter (Huntley\, IL) will host an animal adoption event in the parking lot of the Cary Area Public Library on Saturday\, June 8\, 2013 from 11 am to 1 pm. Come meet your new &quot\;best friend\,&quot\; ask questions about fostering an animal\, or make a donation (see Animal House Shelter&#39\;s website\, www.animalhouseshelter.com for a list of needed items). The library will have a donation bin for Animal House donations in the outer lobby through the month of June.<br />\n
LOCATION:Cary Area Public Library (front parking lot) 1606 Three Oaks Road Cary\, IL 60013
UID:e.138.3811
SEQUENCE:3
DTSTAMP:20260426T012107Z
URL:https://carygrovechamber-gz26-gzcms.preview.gochambermaster.com/events/details/animal-house-adoption-event-at-cary-library-06-08-2013-3811
END:VEVENT

END:VCALENDAR
