BEGIN:VCALENDAR
VERSION:2.0
PRODID:-//ChamberMaster//Event Calendar 2.0//EN
METHOD:PUBLISH
X-PUBLISHED-TTL:P3D
REFRESH-INTERVAL:P3D
CALSCALE:GREGORIAN
BEGIN:VEVENT
DTSTART;VALUE=DATE:20150802
DTEND;VALUE=DATE:20150803
TRANSP:TRANSPARENT
X-MICROSOFT-CDO-ALLDAYEVENT:TRUE
SUMMARY:Annual Dog Day Afternoon Event at On Angels' Wings
DESCRIPTION:On Angels' Wings Pet Rescue and Resale Store will be hosting their annual Dog Day Afternoon event on Sunday\, August 2nd from noon to 4pm in the parking lot at 5186 Northwest Highway.  The festivities include dog baths\, nail trims\, micro-chipping\, "Ask the Vet"\, Reiki\, "Ask the Trainer"\, homemade treats for dogs and their humans\, Mojo from Star 105.5\, raffles\, games with prizes\, a DJ and photo opportunities.  Pet related vendors and other rescues/shelters are welcome to set up a booth.
X-ALT-DESC;FMTTYPE=text/html:On Angels&#39\; Wings Pet Rescue and Resale Store will be hosting their annual Dog Day Afternoon event on Sunday\, August 2nd from noon to 4pm in the parking lot at 5186 Northwest Highway. &nbsp\;The festivities include dog baths\, nail trims\, micro-chipping\, &quot\;Ask the Vet&quot\;\, Reiki\, &quot\;Ask the Trainer&quot\;\, homemade treats for dogs and their humans\, Mojo from Star 105.5\, raffles\, games with prizes\, a DJ and photo opportunities. &nbsp\;Pet related vendors and other rescues/shelters are welcome to set up a booth.
LOCATION:On Angels Wings 5186 Northwest Hwy. Crystal Lake
UID:e.138.5960
SEQUENCE:3
DTSTAMP:20260423T145257Z
URL:https://carygrovechamber-gz26-gzcms.preview.gochambermaster.com/events/details/annual-dog-day-afternoon-event-at-on-angels-wings-08-02-2015-5960
END:VEVENT

END:VCALENDAR
