BEGIN:VCALENDAR
VERSION:2.0
PRODID:-//ChamberMaster//Event Calendar 2.0//EN
METHOD:PUBLISH
X-PUBLISHED-TTL:P3D
REFRESH-INTERVAL:P3D
CALSCALE:GREGORIAN
BEGIN:VEVENT
DTSTART:20160709T010000Z
DTEND:20160731T200000Z
X-MICROSOFT-CDO-ALLDAYEVENT:FALSE
SUMMARY:ART
DESCRIPTION:A Comedy of Artistic Perceptions Marc\, Serge\, & Yvan are long-time friends. But when Serge drops a fortune on a piece of modern art\, his friends' surprising reactions touch off a series of personal confrontations that threaten their friendship. This intelligent\, rapid-fire comedy\, sparkling with verbal wit\, explores the power of art to engage the imagination and the enduring bonds of friendship in the face of the ridiculous. French playwright Yasmina Reza won the 1997 Olivier Award and the 1998 Tony Award for Art\, which has been produced worldwide and translated into over 30 languages.
X-ALT-DESC;FMTTYPE=text/html:A Comedy of Artistic Perceptions Marc\, Serge\, &amp\; Yvan are long-time friends. But when Serge drops a fortune on a piece of modern art\, his friends&rsquo\; surprising reactions touch off a series of personal confrontations that threaten their friendship. This intelligent\, rapid-fire comedy\, sparkling with verbal wit\, explores the power of art to engage the imagination and the enduring bonds of friendship in the face of&hellip\;the ridiculous. French playwright Yasmina Reza won the 1997 Olivier Award and the 1998 Tony Award for Art\, which has been produced worldwide and translated into over 30 languages.
LOCATION:Raue Center For The Arts
UID:e.138.6640
SEQUENCE:3
DTSTAMP:20260422T092930Z
URL:https://carygrovechamber-gz26-gzcms.preview.gochambermaster.com/events/details/art-07-08-2016-6640
END:VEVENT

END:VCALENDAR
