BEGIN:VCALENDAR
VERSION:2.0
PRODID:-//ChamberMaster//Event Calendar 2.0//EN
METHOD:PUBLISH
X-PUBLISHED-TTL:P3D
REFRESH-INTERVAL:P3D
CALSCALE:GREGORIAN
BEGIN:VEVENT
DTSTART:20160110T210000Z
DTEND:20160110T230000Z
X-MICROSOFT-CDO-ALLDAYEVENT:FALSE
SUMMARY:Artful Women presents Deirdre Marie Capone\, writer of My Uncle Al Capone
DESCRIPTION:Deirdre Marie Capone\, writer. Uncle Al Capone: The Untold Story from Inside His Family Deirdre Marie Capone is the grandniece Al Capone and the last living member of that family born with the last name "Capone." Growing up in Chicago as a member of the Capone family was uniquely difficult. And as soon as she could\, she fled Chicago - and her name - and found her own success away from the shadow cast by the legacy of her famous uncle. Now\, in her first book\, she shares for the first time the intimate details of life within the Capone family. Deirdre has just revised her book in April 2015 adding more never before revealed information about her uncle Al Capone. She is presently working on a major motion picture which will be released in 2016. Raue Center's Artful Women Series: Celebrating the empowering work and lives lived by women in the arts. Artful Women is dedicated to exploring current issues in a format that will enrich\, inspire\, educate\, and entertain the community.
X-ALT-DESC;FMTTYPE=text/html:Deirdre Marie Capone\, writer. Uncle Al Capone: The Untold Story from Inside His Family Deirdre Marie Capone is the grandniece Al Capone and the last living member of that family born with the last name &quot\;Capone.&quot\; Growing up in Chicago as a member of the Capone family was uniquely difficult. And as soon as she could\, she fled Chicago - and her name - and found her own success away from the shadow cast by the legacy of her famous uncle. Now\, in her first book\, she shares for the first time the intimate details of life within the Capone family. Deirdre has just revised her book in April 2015 adding more never before revealed information about her uncle Al Capone. She is presently working on a major motion picture which will be released in 2016. Raue Center&#39\;s Artful Women Series: Celebrating the empowering work and lives lived by women in the arts. Artful Women is dedicated to exploring current issues in a format that will enrich\, inspire\, educate\, and entertain the community.
LOCATION:Raue Center Box Office | 26 N. Williams Street\, Crystal Lake\, 60014 | 815.356.9212 | Mon-Sat | 12 to 4p | Closed Sundays (open 1 hour prior to event) | www.rauecenter.org
UID:e.138.6520
SEQUENCE:3
DTSTAMP:20260423T004022Z
URL:https://carygrovechamber-gz26-gzcms.preview.gochambermaster.com/events/details/artful-women-presents-deirdre-marie-capone-writer-of-my-uncle-al-capone-01-10-2016-6520
END:VEVENT

END:VCALENDAR
