BEGIN:VCALENDAR
VERSION:2.0
PRODID:-//ChamberMaster//Event Calendar 2.0//EN
METHOD:PUBLISH
X-PUBLISHED-TTL:P3D
REFRESH-INTERVAL:P3D
CALSCALE:GREGORIAN
BEGIN:VEVENT
DTSTART:20130713T000000Z
DTEND:20130713T000000Z
X-MICROSOFT-CDO-ALLDAYEVENT:FALSE
SUMMARY:Band of Sisters
DESCRIPTION:Normal\n  0\n  \n  \n  false\n  false\n  false\n  \n   \n   \n   \n   \n   \n  \n  MicrosoftInternetExplorer4\n \n\n\n	Band of Sisters is a documentary about the journey of Catholic sisters from the United States take from being sheltered "daughters of the church" to becoming citizens of the world.  It will show scenes of convent life before Vatican II contrasted with those of the sisters when they engage with the social movement of today.    \n\n \n \n\n\nst1\\:*{behavior:url(#ieooui) }\n\n\n\n /* Style Definitions */\n table.MsoNormalTable\n	{mso-style-name:"Table Normal"\;\n	mso-tstyle-rowband-size:0\;\n	mso-tstyle-colband-size:0\;\n	mso-style-noshow:yes\;\n	mso-style-parent:""\;\n	mso-padding-alt:0in 5.4pt 0in 5.4pt\;\n	mso-para-margin:0in\;\n	mso-para-margin-bottom:.0001pt\;\n	mso-pagination:widow-orphan\;\n	font-size:10.0pt\;\n	font-family:"Times New Roman"\;\n	mso-ansi-language:#0400\;\n	mso-fareast-language:#0400\;\n	mso-bidi-language:#0400\;}
X-ALT-DESC;FMTTYPE=text/html:<!--[if gte mso 9]><xml>\n <w:WordDocument>\n  <w:View>Normal</w:View>\n  <w:Zoom>0</w:Zoom>\n  <w:PunctuationKerning/>\n  <w:ValidateAgainstSchemas/>\n  <w:SaveIfXMLInvalid>false</w:SaveIfXMLInvalid>\n  <w:IgnoreMixedContent>false</w:IgnoreMixedContent>\n  <w:AlwaysShowPlaceholderText>false</w:AlwaysShowPlaceholderText>\n  <w:Compatibility>\n   <w:BreakWrappedTables/>\n   <w:SnapToGridInCell/>\n   <w:WrapTextWithPunct/>\n   <w:UseAsianBreakRules/>\n   <w:DontGrowAutofit/>\n  </w:Compatibility>\n  <w:BrowserLevel>MicrosoftInternetExplorer4</w:BrowserLevel>\n </w:WordDocument>\n</xml><![endif]-->\n<p class="MsoNormal">\n	Band of Sisters is a documentary about the journey of Catholic sisters from the United States take from being sheltered &ldquo\;daughters of the church&rdquo\; to becoming citizens of the world.<span style="mso-spacerun:yes">&nbsp\; </span>It will show scenes of convent life before Vatican II contrasted with those of the sisters when they engage with the social movement of today.<span style="mso-spacerun:yes">&nbsp\; </span><span style="mso-spacerun:yes">&nbsp\;&nbsp\;</span></p>\n<!--[if gte mso 9]><xml>\n <w:LatentStyles DefLockedState="false" LatentStyleCount="156">\n </w:LatentStyles>\n</xml><![endif]--><!--[if !mso]><object\n classid="clsid:38481807-CA0E-42D2-BF39-B33AF135CC4D" id=ieooui></object>\n<style>\nst1\\:*{behavior:url(#ieooui) }\n</style>\n<![endif]--><!--[if gte mso 10]>\n<style>\n /* Style Definitions */\n table.MsoNormalTable\n	{mso-style-name:"Table Normal"\;\n	mso-tstyle-rowband-size:0\;\n	mso-tstyle-colband-size:0\;\n	mso-style-noshow:yes\;\n	mso-style-parent:""\;\n	mso-padding-alt:0in 5.4pt 0in 5.4pt\;\n	mso-para-margin:0in\;\n	mso-para-margin-bottom:.0001pt\;\n	mso-pagination:widow-orphan\;\n	font-size:10.0pt\;\n	font-family:"Times New Roman"\;\n	mso-ansi-language:#0400\;\n	mso-fareast-language:#0400\;\n	mso-bidi-language:#0400\;}\n</style>\n<![endif]--><!--[if gte mso 9]><xml>\n <o:shapedefaults v:ext="edit" spidmax="1026"/>\n</xml><![endif]--><!--[if gte mso 9]><xml>\n <o:shapelayout v:ext="edit">\n  <o:idmap v:ext="edit" data="1"/>\n </o:shapelayout></xml><![endif]-->
LOCATION:Raue Center For The Arts
UID:e.138.3838
SEQUENCE:3
DTSTAMP:20260426T000244Z
URL:https://carygrovechamber-gz26-gzcms.preview.gochambermaster.com/events/details/band-of-sisters-07-12-2013-3838
END:VEVENT

END:VCALENDAR
