BEGIN:VCALENDAR
VERSION:2.0
PRODID:-//ChamberMaster//Event Calendar 2.0//EN
METHOD:PUBLISH
X-PUBLISHED-TTL:P3D
REFRESH-INTERVAL:P3D
CALSCALE:GREGORIAN
BEGIN:VEVENT
DTSTART:20140614T200000Z
DTEND:20140615T020000Z
X-MICROSOFT-CDO-ALLDAYEVENT:FALSE
SUMMARY:BBT & Summers Academy of Dance - June Dance Concert
DESCRIPTION:Berkshire Ballet Theatre and Summers Academy of Dance  June Dance Concert "Living the Dream" at the Raue Center for the Arts.\n\nTwo Saturday Performances - 3:00 pm & 7:00 pm.
X-ALT-DESC;FMTTYPE=text/html:<p>Berkshire Ballet Theatre and Summers Academy of Dance&nbsp\; June Dance Concert &quot\;Living the Dream&quot\; at the Raue Center for the Arts.<br />\nTwo Saturday Performances - 3:00 pm &amp\; 7:00 pm.</p>\n
LOCATION:Raue Center for the Arts 26 N. Williams Street Crystal Lake\, IL. 60014
UID:e.138.4347
SEQUENCE:3
DTSTAMP:20260425T020011Z
URL:https://carygrovechamber-gz26-gzcms.preview.gochambermaster.com/events/details/bbt-summers-academy-of-dance-june-dance-concert-06-14-2014-4347
END:VEVENT

END:VCALENDAR
