BEGIN:VCALENDAR
VERSION:2.0
PRODID:-//ChamberMaster//Event Calendar 2.0//EN
METHOD:PUBLISH
X-PUBLISHED-TTL:P3D
REFRESH-INTERVAL:P3D
CALSCALE:GREGORIAN
BEGIN:VEVENT
DTSTART:20140630T123000Z
DTEND:20140630T193000Z
X-MICROSOFT-CDO-ALLDAYEVENT:FALSE
SUMMARY:Berkshire Ballet Theatre 11th Annual Golf Outing
DESCRIPTION:WE NEED GOLFERS!!\n\nSign-up now for the 11th Annual Berkshire Ballet Theatre's Golf Outing to be held at Turnberry Country Club on Monday\, June 30th. \n\n\n\nRegistration begins at 7:30 with a light breakfast to follow and a shot-gun start at 8:30 am.  Following the round (best ball tournament)\, there will be a great buffet luncheon\, prizes and awards!  Don't miss out on this opportunity to support the BBT a 501(c)3 not for profit organization who has for the last 14 years brought Classical Ballet Productions to our communities including the Nutcracker which is performed each year in partnership with the Raue Center for the Arts in December.\n\n\n\n*** All net proceeds from this fundraiser go to support the Berkshire Ballet Theatre's annual operating budget and specifically to the Performances of the Nutcracker.***
X-ALT-DESC;FMTTYPE=text/html:<p>WE NEED GOLFERS!!<br />\nSign-up&nbsp\;now&nbsp\;for the 11th Annual Berkshire Ballet Theatre&#39\;s Golf Outing to be held at Turnberry Country Club on Monday\, June 30th.&nbsp\;<br />\n<br />\nRegistration begins at 7:30 with a light breakfast to follow and a shot-gun start at 8:30 am.&nbsp\;&nbsp\;Following the round (best ball tournament)\, there will be a great buffet luncheon\, prizes and awards!&nbsp\; Don&#39\;t miss out on this opportunity to support the BBT a 501(c)3 not for profit organization who has for the last 14 years brought Classical Ballet Productions to our communities including the Nutcracker which is performed each year in partnership with the Raue Center for the Arts in December.<br />\n<br />\n<em><strong>*** All net proceeds from this fundraiser go to support the Berkshire Ballet Theatre&#39\;s annual operating budget and specifically to the Performances of the Nutcracker.***</strong></em></p>\n
LOCATION:Turnberry Country Club - Village of Lakewood\, IL. 60014
UID:e.138.4329
SEQUENCE:3
DTSTAMP:20260425T015857Z
URL:https://carygrovechamber-gz26-gzcms.preview.gochambermaster.com/events/details/berkshire-ballet-theatre-11th-annual-golf-outing-06-30-2014-4329
END:VEVENT

END:VCALENDAR
