BEGIN:VCALENDAR
VERSION:2.0
PRODID:-//ChamberMaster//Event Calendar 2.0//EN
METHOD:PUBLISH
X-PUBLISHED-TTL:P3D
REFRESH-INTERVAL:P3D
CALSCALE:GREGORIAN
BEGIN:VEVENT
DTSTART:20181020T220000Z
DTEND:20181021T010000Z
X-MICROSOFT-CDO-ALLDAYEVENT:FALSE
SUMMARY:Bingo and Boos! At Galati's in Cay\, IL
DESCRIPTION:Great night out with friends\, family or your significant other!\n\nJoin us for a night of food\, drinks and spooky fun and prizes!\n\n\n\nTickets are $15 per person or $100 for a table of 8!\n\nGroups of 5 or more must RSVP tables in advance. Limited walk-ins available\n\n\n\nAll guests will receive 2 bingo cards and a drink ticket.\n\n\n\n\n\nAll proceeds benefit Pioneer Center Cary Group Home!\n\nGalati's will be offering a restaurant wide dine-n-share hat night with 15% of all food and drink purchases!)
X-ALT-DESC;FMTTYPE=text/html:Great night out with friends\, family or your significant other!<br />\nJoin us for a night of food\, drinks and spooky fun and prizes!<br />\n<br />\nTickets are $15 per person or $100 for a table of 8!<br />\nGroups of 5 or more must RSVP tables in advance. Limited walk-ins available<br />\n<br />\nAll guests will receive 2 bingo cards and a drink ticket.<br />\n<br />\n<br />\nAll proceeds benefit Pioneer Center Cary Group Home!<br />\nGalati&rsquo\;s will be offering a restaurant wide dine-n-share hat night with 15% of all food and drink purchases!)
LOCATION:Galati's Hideaway
UID:e.138.9323
SEQUENCE:3
DTSTAMP:20260420T040637Z
URL:https://carygrovechamber-gz26-gzcms.preview.gochambermaster.com/events/details/bingo-and-boos-at-galati-s-in-cay-il-9323
END:VEVENT

END:VCALENDAR
