BEGIN:VCALENDAR
VERSION:2.0
PRODID:-//ChamberMaster//Event Calendar 2.0//EN
METHOD:PUBLISH
X-PUBLISHED-TTL:P3D
REFRESH-INTERVAL:P3D
CALSCALE:GREGORIAN
BEGIN:VEVENT
DTSTART:20171104T010000Z
DTEND:20171104T040000Z
X-MICROSOFT-CDO-ALLDAYEVENT:FALSE
SUMMARY:BoDeans
DESCRIPTION:BoDeans return to Raue Center for a rocking good time! Long known as one of the best live acts in the business\, BoDeans have continued to tour year round and deliver amazing\, high-energy performances for three decades. Their reputation for delivering a dynamic live show garnered support slots with U2\, Joshua Tree\, Bob Dylan\, Paul Simon\, Tom Petty\, George Thorogood\, David Bowie\, The Pretenders and more. BoDeans have performed at Farm Aid\, Summerfest and ACL and have appeared on SNL\, Letterman\, Today\, Imus\, CNN\, ESPN and many more! BoDeans' accessible adult alternative sound has led to a number of milestones in the 30 years that followed. The band has released 13 studio albums\, with 10 records that hit the Billboard Top 200\, numerous singles on the Mainstream Rock\, Top 40 and Triple A radio charts and over 2 million in sales worldwide. Known for defining a generation with songs like "Good Things\," "Idaho" and "All The World\," BoDeans have earned a permanent installation in the Midwest Artists Exhibit at the Rock and Roll Hall of Fame. BoDeans released their most recent studio album\, the aptly titled "13\," in April 2017 and show no signs of slowing down!
X-ALT-DESC;FMTTYPE=text/html:BoDeans return to Raue Center for a rocking good time! Long known as one of the best live acts in the business\, BoDeans have continued to tour year round and deliver amazing\, high-energy performances for three decades. Their reputation for delivering a dynamic live show garnered support slots with U2\, Joshua Tree\, Bob Dylan\, Paul Simon\, Tom Petty\, George Thorogood\, David Bowie\, The Pretenders and more. BoDeans have performed at Farm Aid\, Summerfest and ACL and have appeared on SNL\, Letterman\, Today\, Imus\, CNN\, ESPN and many more! BoDeans&rsquo\; accessible adult alternative sound has led to a number of milestones in the 30 years that followed. The band has released 13 studio albums\, with 10 records that hit the Billboard Top 200\, numerous singles on the Mainstream Rock\, Top 40 and Triple A radio charts and over 2 million in sales worldwide. Known for defining a generation with songs like &ldquo\;Good Things\,&rdquo\; &ldquo\;Idaho&rdquo\; and &ldquo\;All The World\,&rdquo\; BoDeans have earned a permanent installation in the Midwest Artists Exhibit at the Rock and Roll Hall of Fame. BoDeans released their most recent studio album\, the aptly titled &ldquo\;13\,&rdquo\; in April 2017 and show no signs of slowing down!
LOCATION:Raue Center For The Arts 26 N. Williams Street Crystal Lake\, IL 60014
UID:e.138.7436
SEQUENCE:3
DTSTAMP:20260421T021802Z
URL:https://carygrovechamber-gz26-gzcms.preview.gochambermaster.com/events/details/bodeans-7436
END:VEVENT

END:VCALENDAR
