BEGIN:VCALENDAR
VERSION:2.0
PRODID:-//ChamberMaster//Event Calendar 2.0//EN
METHOD:PUBLISH
X-PUBLISHED-TTL:P3D
REFRESH-INTERVAL:P3D
CALSCALE:GREGORIAN
BEGIN:VEVENT
DTSTART:20190227T173000Z
DTEND:20190227T193000Z
X-MICROSOFT-CDO-ALLDAYEVENT:FALSE
SUMMARY:Business Planning Concepts Workshop
DESCRIPTION:Would you like to be better informed\, organized and prepared for the inevitable transitions that occur in your business?\n\n \n\nPlease be our guest to a Business Planning Concepts Workshop presented by Lou Cassara\, a nationally recognized author\, speaker and industry-leading business financial consultant.\n\n\n\nFebruary 27\, 2019: 11:30 am   1:30 pm\n\nTurnberry Country Club\n\n9600 Turnberry Trail\, Village of Lakewood\, IL\n\n \n\n \n\nLunch will be provided\n\n(notify us of any dietary restrictions with your RSVP)\n\n \n\nRSVP to Carrie Weyers at (815) 455-5292\n\nor weyers_carrie@nlgroupmail.com by 2/22/2019\n\nLimited Seating Available\n\n \n\nPresented by:\n\nWeyers McKeever Financial Partners\n\nYour Vision   Our Team\n\n \n\nThe professionals at Weyers McKeever Financial Partners utilize an innovative\, holistic approach in helping to build protect and distribute your assets by assembling a team of top-level professionals to assist in optimizing your financial position for tax management\, retirement and estate planning strategies\, account distribution and transfer of wealth.\n\n\n\nIt is not our position to offer tax advice.  You should seek the advice of an accountant regarding your own situation. Weyers McKeever Financial Partners is independent of all named entities. TC105518(0119)1
X-ALT-DESC;FMTTYPE=text/html:<p><span style="font-size:12px"><span style="font-family:verdana"><strong>Would you like to be better informed\, organized and prepared for the inevitable transitions that occur in your business?</strong></span></span></p>\n\n<p><span style="font-size:12px"><span style="font-family:verdana">&nbsp\;<br />\nPlease be our guest to a&nbsp\;<strong><span style="color:green">Business Planning Concepts Workshop</span></strong>&nbsp\;presented by&nbsp\;<strong>Lou Cassara</strong>\, a nationally recognized author\, speaker and industry-leading business financial consultant.<br />\n<br />\n<strong>February 27\, 2019: 11:30 am &ndash\; 1:30 pm</strong><br />\nTurnberry Country Club<br />\n9600 Turnberry Trail\, Village of Lakewood\, IL<br />\n&nbsp\;<br />\n&nbsp\;<br />\n<strong>Lunch will be provided</strong><br />\n(notify us of any dietary restrictions with your RSVP)<br />\n&nbsp\;<br />\n<strong>RSVP to Carrie Weyers at (815) 455-5292</strong><br />\n<strong><strong>or weyers_carrie@nlgroupmail.com by 2/22/2019</strong></strong><br />\nLimited Seating Available<br />\n&nbsp\;<br />\nPresented by:<br />\n<strong><span style="color:green">Weyers McKeever Financial Partners</span></strong><br />\n<span style="color:green">Your Vision &bull\; Our Team</span><br />\n&nbsp\;<br />\nThe professionals at Weyers McKeever Financial Partners utilize an innovative\, holistic approach in helping to build protect and distribute your assets by assembling a team of top-level professionals to assist in optimizing your financial position for tax management\, retirement and estate planning strategies\, account distribution and transfer of wealth.<br />\n<br />\nIt is not our position to offer tax advice.&nbsp\; You should seek the advice of an accountant regarding your own situation.&nbsp\;Weyers McKeever Financial Partners is independent of all named entities.&nbsp\;TC105518(0119)1<br />\n&nbsp\;</span></span></p>\n
LOCATION:Turnberry Country Club 9600 Turnberry Trail\, Village of Lakewood\, IL
UID:e.138.9543
SEQUENCE:3
DTSTAMP:20260420T003233Z
URL:https://carygrovechamber-gz26-gzcms.preview.gochambermaster.com/events/details/business-planning-concepts-workshop-9543
END:VEVENT

END:VCALENDAR
