BEGIN:VCALENDAR
VERSION:2.0
PRODID:-//ChamberMaster//Event Calendar 2.0//EN
METHOD:PUBLISH
X-PUBLISHED-TTL:P3D
REFRESH-INTERVAL:P3D
CALSCALE:GREGORIAN
BEGIN:VEVENT
DTSTART:20130703T230000Z
DTEND:20130704T013000Z
X-MICROSOFT-CDO-ALLDAYEVENT:FALSE
SUMMARY:Cary Cruise Nights
DESCRIPTION:Cary Cruise Nights
X-ALT-DESC;FMTTYPE=text/html:Cary Cruise Nights
LOCATION:West Main Street in downtown Cary
UID:e.138.3612
SEQUENCE:3
DTSTAMP:20260426T000247Z
URL:https://carygrovechamber-gz26-gzcms.preview.gochambermaster.com/events/details/cary-cruise-nights-07-03-2013-3612
END:VEVENT

END:VCALENDAR
