BEGIN:VCALENDAR
VERSION:2.0
PRODID:-//ChamberMaster//Event Calendar 2.0//EN
METHOD:PUBLISH
X-PUBLISHED-TTL:P3D
REFRESH-INTERVAL:P3D
CALSCALE:GREGORIAN
BEGIN:VEVENT
DTSTART:20150307T160000Z
DTEND:20150307T220000Z
X-MICROSOFT-CDO-ALLDAYEVENT:FALSE
SUMMARY:Cary Grove Area Community Showcase
DESCRIPTION:Community Showcase\n\nSaturday\, March 7\n\nCary-Grove High School\, 2208 Three Oaks Rd.\, Cary\n\n10:00 a.m. - 4:00 p.m.\n\nBooths are now available!  Showcase your business in front of nearly 3\,000 area residents. The Showcase will take place in the lower gym at Cary-Grove High School and the Craft Marketplace will take place in the cafeteria. \n\nClick Here for Summary of Changes from 2015 EXPO\n\nClick Here for Required Waiver/Rules Form\n\nClick Here for NEW Booth Layout\n\nClick Here for NEW Pricing
X-ALT-DESC;FMTTYPE=text/html:<div style="text-align: center\;"><span style="font-size: 22px\;"><strong><span style="font-family: times new roman\;">Community Showcase</span></strong></span></div>\n\n<div style="text-align: center\;"><span style="font-size: 16px\;"><span style="font-family: times new roman\;">Saturday\, March 7</span></span></div>\n\n<div style="text-align: center\;"><span style="font-size: 16px\;"><span style="font-family: times new roman\;">Cary-Grove High School\, 2208 Three Oaks Rd.\, Cary</span></span></div>\n\n<p style="text-align: center\;"><span style="font-size: 16px\;"><span style="font-family: times new roman\;">10:00 a.m. - 4:00 p.m.</span></span></p>\n\n<div><span style="font-size: 16px\;"><span style="font-family: times new roman\;">Booths are now available!&nbsp\;&nbsp\;Showcase your business in front of nearly 3\,000 area residents. The Showcase will take place in the lower gym at Cary-Grove High School and the Craft Marketplace will take place in the cafeteria. </span></span></div>\n\n<p><span style="font-size: 14px\;"><span style="font-family: times new roman\;"><a href="http://www.carygrovechamber.com/images/2015_Event_Updates.pdf"><font color="#0066cc">Click Here for Summary of Changes from 2015 EXPO</font></a><br />\n<a href="http://cloud.chambermaster.com/userfiles/UserFiles/chambers/138/File/GuidelinesandWaiver.pdf"><font color="#0066cc">Click Here for Required Waiver/Rules Form</font></a><br />\n<a href="http://www.carygrovechamber.com/images/Showcase_Layout.pdf"><font color="#0066cc">Click Here for NEW Booth Layout</font></a><br />\n<a href="http://www.carygrovechamber.com/images/Exhibitor_Price_Sheet.pdf"><font color="#0066cc">Click Here for NEW Pricing</font></a></span></span></p>\n\n<p>&nbsp\;</p>\n
LOCATION:Cary-Grove High School 2208 Three Oaks Rd.\, Cary
UID:e.138.4210
SEQUENCE:3
DTSTAMP:20260424T035322Z
URL:https://carygrovechamber-gz26-gzcms.preview.gochambermaster.com/events/details/cary-grove-area-community-showcase-03-07-2015-4210
END:VEVENT

END:VCALENDAR
