BEGIN:VCALENDAR
VERSION:2.0
PRODID:-//ChamberMaster//Event Calendar 2.0//EN
METHOD:PUBLISH
X-PUBLISHED-TTL:P3D
REFRESH-INTERVAL:P3D
CALSCALE:GREGORIAN
BEGIN:VEVENT
DTSTART:20150703T233000Z
DTEND:20150704T023000Z
X-MICROSOFT-CDO-ALLDAYEVENT:FALSE
SUMMARY:Cary Summer Celebration and Fireworks
DESCRIPTION:Summer Celebration\n\nFriday\,July 3\n\nLions Park from 7:30 - 9:30 pm \n\nPark Opens at 6:30 pm \n\nCelebrate summer with music\, food\, and fireworks at the Cary Park District's Summer Celebration. This event will be held on Friday\, July 3 at Lions Park. The evening will begin with a performance by the Rockin' Federskirts at 7:30 pm followed by a spectacular fireworks display at dusk. Food and beverages will be available for purchase onsite.
X-ALT-DESC;FMTTYPE=text/html:<div align="center" class="style13">Summer Celebration<br />\n<span class="Subheader style18"><span class="style21">Friday\,July 3<br />\nLions Park from 7:30 - 9:30 pm </span></span><br />\n<span class="style22">Park Opens at 6:30 pm </span></div>\n\n<p align="left">Celebrate summer with music\, food\, and fireworks at the Cary Park&nbsp\;District&rsquo\;s Summer Celebration. This event will be held on Friday\, July 3 at Lions Park.&nbsp\;The evening will begin with a performance by the Rockin&rsquo\; Federskirts at 7:30 pm&nbsp\;followed by a spectacular fireworks display at dusk. Food and beverages will be&nbsp\;available for purchase onsite.</p>\n
LOCATION:Lions Park\, 1170 Silver Lake Rd.\, Cary
UID:e.138.5949
SEQUENCE:3
DTSTAMP:20260423T173821Z
URL:https://carygrovechamber-gz26-gzcms.preview.gochambermaster.com/events/details/cary-summer-celebration-and-fireworks-07-03-2015-5949
END:VEVENT

END:VCALENDAR
