BEGIN:VCALENDAR
VERSION:2.0
PRODID:-//ChamberMaster//Event Calendar 2.0//EN
METHOD:PUBLISH
X-PUBLISHED-TTL:P3D
REFRESH-INTERVAL:P3D
CALSCALE:GREGORIAN
BEGIN:VEVENT
DTSTART:20130719T170000Z
DTEND:20130719T174500Z
X-MICROSOFT-CDO-ALLDAYEVENT:FALSE
SUMMARY:Children's Entertaimnet Series
DESCRIPTION:Pack up the kids\, a blanket\, and a picnic lunch. Head out to Lions Park for Leonardo Family Music. Leonardo is a Parents' Choice Award winning family musician writing and performing songs that entertain\, educate\, and empower audiences of all ages. He brings a high energy\, interactive concert that is a celebration of possibilities. This performance is FREE.
X-ALT-DESC;FMTTYPE=text/html:<p class="MsoNormal" style="margin: 0in 0in 10pt\;">\n	<font color="#000000" face="Calibri" size="3">Pack up the kids\, a blanket\, and a picnic lunch. Head out to <st1:place w:st="on"><st1:placename w:st="on">Lions</st1:placename> <st1:placetype w:st="on">Park</st1:placetype></st1:place> for Leonardo Family Music. Leonardo is a Parents&rsquo\; Choice Award winning family musician writing and performing songs that entertain\, educate\, and empower audiences of all ages. He brings a high energy\, interactive concert that is a celebration of possibilities. This performance is FREE.</font></p>\n
LOCATION:Rotary Bandshell in Lions Park
UID:e.138.3779
SEQUENCE:3
DTSTAMP:20260426T000247Z
URL:https://carygrovechamber-gz26-gzcms.preview.gochambermaster.com/events/details/children-s-entertaimnet-series-07-19-2013-3779
END:VEVENT

END:VCALENDAR
