BEGIN:VCALENDAR
VERSION:2.0
PRODID:-//ChamberMaster//Event Calendar 2.0//EN
METHOD:PUBLISH
X-PUBLISHED-TTL:P3D
REFRESH-INTERVAL:P3D
CALSCALE:GREGORIAN
BEGIN:VEVENT
DTSTART:20141115T010000Z
DTEND:20141115T030000Z
X-MICROSOFT-CDO-ALLDAYEVENT:FALSE
SUMMARY:Coffee & Cards
DESCRIPTION:Stampin' Up Demonstrator Lisa Jones and The Flour Shoppe Bakery & Confections invite you for an evening of Paper Crafting and refreshments. A great way to spend the evening with your friends!
X-ALT-DESC;FMTTYPE=text/html:Stampin&#39\; Up Demonstrator Lisa Jones and The Flour Shoppe Bakery &amp\; Confections invite you for an evening of Paper Crafting and refreshments. A great way to spend the evening with your friends!
LOCATION:The Flour Shoppe Bakery & Confections 372 Northwest Hwy Cary\, IL. 60013 Located in Cary Corners Shopping Center right next the Home of The Sparrow.
UID:e.138.5086
SEQUENCE:3
DTSTAMP:20260424T191853Z
URL:https://carygrovechamber-gz26-gzcms.preview.gochambermaster.com/events/details/coffee-cards-11-14-2014-5086
END:VEVENT

END:VCALENDAR
