BEGIN:VCALENDAR
VERSION:2.0
PRODID:-//ChamberMaster//Event Calendar 2.0//EN
METHOD:PUBLISH
X-PUBLISHED-TTL:P3D
REFRESH-INTERVAL:P3D
CALSCALE:GREGORIAN
BEGIN:VEVENT
DTSTART:20181115T170000Z
DTEND:20181115T190000Z
X-MICROSOFT-CDO-ALLDAYEVENT:FALSE
SUMMARY:Complimentary Lunch & Tour of Zippy Shell's Innovative Facility
DESCRIPTION:Zippy Shell is celebrating our one year anniversary in our Lake Zurich facility. Join us for an opportunity to learn what makes our portable storage containers different from the rest.\n\n11:00AM - Doors / Networking\n\n11:30AM - Buffet Style Lunch from City Barbecue\n\n12:00PM - Zippy Shell Tour and Demonstration\n\n12:30PM - Open Networking
X-ALT-DESC;FMTTYPE=text/html:<p><a href="https://www.zippyshell.com/locations/illinois/lake-county-storage" rel="noopener noreferrer nofollow" style="color: rgb(54\, 89\, 227)\; cursor: pointer\; background-color: transparent\; outline: 0px\; padding-top: 0px\;" target="_blank">Zippy Shell</a>&nbsp\;is celebrating our one year anniversary in our Lake Zurich facility. Join us for an opportunity to learn what makes our portable storage containers different from the rest.</p>\n\n<p>11:00AM - Doors / Networking</p>\n\n<p>11:30AM - Buffet Style Lunch from&nbsp\;<a href="https://www.citybbq.com/" rel="noopener noreferrer nofollow" style="color: rgb(61\, 100\, 255)\; text-decoration-line: none\; cursor: pointer\; background-color: transparent\; padding-top: 0px\;" target="_blank">City Barbecue</a></p>\n\n<p>12:00PM - Zippy Shell Tour and Demonstration</p>\n\n<p>12:30PM - Open Networking</p>\n
LOCATION:Zippy Shell's Amazing Warehouse\, located @ 525 Enterprise Pkwy\, Lake Zurich\, IL
UID:e.138.9427
SEQUENCE:3
DTSTAMP:20260420T053926Z
URL:https://carygrovechamber-gz26-gzcms.preview.gochambermaster.com/events/details/complimentary-lunch-tour-of-zippy-shell-s-innovative-facility-9427
END:VEVENT

END:VCALENDAR
