BEGIN:VCALENDAR
VERSION:2.0
PRODID:-//ChamberMaster//Event Calendar 2.0//EN
METHOD:PUBLISH
X-PUBLISHED-TTL:P3D
REFRESH-INTERVAL:P3D
CALSCALE:GREGORIAN
BEGIN:VEVENT
DTSTART:20180714T180000Z
DTEND:20180715T000000Z
X-MICROSOFT-CDO-ALLDAYEVENT:FALSE
SUMMARY:Concert to Benefit Veterans Park Cary
DESCRIPTION:Concert to Benefit Veterans Park in Cary\n\nAll Families Welcome\n\nMultiple Artiest and Bands!
X-ALT-DESC;FMTTYPE=text/html:Concert to Benefit Veterans Park in Cary<br />\nAll Families Welcome<br />\nMultiple Artiest and Bands!
LOCATION:Route 14 at Crystal St Cary\, IL 60013
UID:e.138.8793
SEQUENCE:3
DTSTAMP:20260420T102448Z
URL:https://carygrovechamber-gz26-gzcms.preview.gochambermaster.com/events/details/concert-to-benefit-veterans-park-cary-8793
END:VEVENT

END:VCALENDAR
