BEGIN:VCALENDAR
VERSION:2.0
PRODID:-//ChamberMaster//Event Calendar 2.0//EN
METHOD:PUBLISH
X-PUBLISHED-TTL:P3D
REFRESH-INTERVAL:P3D
CALSCALE:GREGORIAN
BEGIN:VEVENT
DTSTART:20141030T234500Z
DTEND:20141031T013000Z
X-MICROSOFT-CDO-ALLDAYEVENT:FALSE
SUMMARY:Cupcakes & Color
DESCRIPTION:Cupcakes and Color presented by Lisa Raupp of Mary Kay Cosmetics. Have you always wanted to know what colors are best for you? How to apply colors for your features? Join us for a cupcake and refreshments and learn about makeup application! A fun girls night out! Bring a friend!
X-ALT-DESC;FMTTYPE=text/html:Cupcakes and Color presented by Lisa Raupp of Mary Kay Cosmetics. Have you always wanted to know what colors are best for you? How to apply colors for your features? Join us for a cupcake and refreshments and learn about makeup application!&nbsp\;A fun girls night out!&nbsp\;Bring a friend!
LOCATION:The Flour Shoppe Bakery & Confections 372 Northwest Hwy Cary\, IL. 60013
UID:e.138.5084
SEQUENCE:3
DTSTAMP:20260424T203624Z
URL:https://carygrovechamber-gz26-gzcms.preview.gochambermaster.com/events/details/cupcakes-color-10-30-2014-5084
END:VEVENT

END:VCALENDAR
