BEGIN:VCALENDAR
VERSION:2.0
PRODID:-//ChamberMaster//Event Calendar 2.0//EN
METHOD:PUBLISH
X-PUBLISHED-TTL:P3D
REFRESH-INTERVAL:P3D
CALSCALE:GREGORIAN
BEGIN:VEVENT
DTSTART:20160927T230000Z
DTEND:20160928T000000Z
X-MICROSOFT-CDO-ALLDAYEVENT:FALSE
SUMMARY:Dementia Support Group
DESCRIPTION:Dementia Support Group\n\nSeptember 27th\, 2016 \n\n6pm to 7pm\n\nJoin us for this edcuational support group to learn more about memory loss and caring for yourself as well as your loved one.
X-ALT-DESC;FMTTYPE=text/html:Dementia Support Group<br />\nSeptember 27th\, 2016&nbsp\;<br />\n6pm to 7pm<br />\nJoin us for this edcuational support group to learn more about memory loss and caring for yourself as well as your loved one.
LOCATION:Three Oaks Assisted Living & Memory Care 1055 Silver Lake Road Cary IL 60013
UID:e.138.6797
SEQUENCE:3
DTSTAMP:20260422T074622Z
URL:https://carygrovechamber-gz26-gzcms.preview.gochambermaster.com/events/details/dementia-support-group-6797
END:VEVENT

END:VCALENDAR
