BEGIN:VCALENDAR
VERSION:2.0
PRODID:-//ChamberMaster//Event Calendar 2.0//EN
METHOD:PUBLISH
X-PUBLISHED-TTL:P3D
REFRESH-INTERVAL:P3D
CALSCALE:GREGORIAN
BEGIN:VEVENT
DTSTART:20150623T230000Z
DTEND:20150624T000000Z
X-MICROSOFT-CDO-ALLDAYEVENT:FALSE
SUMMARY:Dementia Support Group at Three Oaks Assisted Living
DESCRIPTION:Dementia Support Group at Three Oaks Assisted Living & Memory Care\n\n\n\nJennifer for In Home Personal Services leads this educational group that offers support and resources to family members caring for loved ones with memory loss\n\n\n\nHeld Monthly on the 4th Tuesday at 6pm to 7pm\n\n\n\nTo RSVP or if you have questions please call 847-516-6016
X-ALT-DESC;FMTTYPE=text/html:Dementia Support Group at Three Oaks Assisted Living &amp\; Memory Care<br />\n<br />\nJennifer for In Home Personal Services leads this educational group that offers support and resources to family members caring for loved ones with memory loss<br />\n<br />\nHeld Monthly on the 4th Tuesday at 6pm to 7pm<br />\n<br />\nTo RSVP or if you have questions please call 847-516-6016&nbsp\;
LOCATION:Three Oaks Assisted Living & Memory Care
UID:e.138.5913
SEQUENCE:3
DTSTAMP:20260423T234636Z
URL:https://carygrovechamber-gz26-gzcms.preview.gochambermaster.com/events/details/dementia-support-group-at-three-oaks-assisted-living-06-23-2015-5913
END:VEVENT

END:VCALENDAR
