BEGIN:VCALENDAR
VERSION:2.0
PRODID:-//ChamberMaster//Event Calendar 2.0//EN
METHOD:PUBLISH
X-PUBLISHED-TTL:P3D
REFRESH-INTERVAL:P3D
CALSCALE:GREGORIAN
BEGIN:VEVENT
DTSTART:20171009T150000Z
DTEND:20171010T020000Z
X-MICROSOFT-CDO-ALLDAYEVENT:FALSE
SUMMARY:Dine and Share with the Y!
DESCRIPTION:Come support a great cause!\n\n\n\n20% of the proceeds will be donated to Sage YMCA !
X-ALT-DESC;FMTTYPE=text/html:Come support a great cause!<br />\n<br />\n20% of the proceeds will be donated to Sage YMCA !
LOCATION:5006 Northwest Hwy. Crystal Lake 60014
UID:e.138.7494
SEQUENCE:3
DTSTAMP:20260421T035603Z
URL:https://carygrovechamber-gz26-gzcms.preview.gochambermaster.com/events/details/dine-and-share-with-the-y-7494
END:VEVENT

END:VCALENDAR
