BEGIN:VCALENDAR
VERSION:2.0
PRODID:-//ChamberMaster//Event Calendar 2.0//EN
METHOD:PUBLISH
X-PUBLISHED-TTL:P3D
REFRESH-INTERVAL:P3D
CALSCALE:GREGORIAN
BEGIN:VEVENT
DTSTART:20150405T170000Z
DTEND:20150405T170000Z
X-MICROSOFT-CDO-ALLDAYEVENT:FALSE
SUMMARY:Easter Day Brunch
DESCRIPTION:Join us for our traditional Easter Brunch\, featuring a New\, and Enhanced Menu\, as well as our Famous Chocolate Fountain\, and Chef Attended Prime Rib Carving Station\, and Omelet Station! Call 815-404-2013 for reservations (required)!
X-ALT-DESC;FMTTYPE=text/html:Join us for our traditional Easter Brunch\, featuring a New\, and Enhanced Menu\, as well as our Famous Chocolate Fountain\, and Chef Attended Prime Rib Carving Station\, and Omelet Station! Call 815-404-2013 for reservations (required)!
LOCATION:Holiday Inn Crystal Lake 800 South IL Route 31 Crystal Lake\, IL 60014 www.hicrystallake.com
UID:e.138.5434
SEQUENCE:3
DTSTAMP:20260424T024331Z
URL:https://carygrovechamber-gz26-gzcms.preview.gochambermaster.com/events/details/easter-day-brunch-04-05-2015-5434
END:VEVENT

END:VCALENDAR
