BEGIN:VCALENDAR
VERSION:2.0
PRODID:-//ChamberMaster//Event Calendar 2.0//EN
METHOD:PUBLISH
X-PUBLISHED-TTL:P3D
REFRESH-INTERVAL:P3D
CALSCALE:GREGORIAN
BEGIN:VEVENT
DTSTART:20160810T133000Z
DTEND:20160810T190000Z
X-MICROSOFT-CDO-ALLDAYEVENT:FALSE
SUMMARY:Elderwerks Education and Resource Senior Fair
DESCRIPTION:The Elderwerks Education and Resource Senior Fair is an expo of education\, services and products geared to active seniors as well as a day of fun and entertainment *9 free seminars on elder law topics\, financial topics and health related issues *Wellness screenings *Meet your local resources *Listen to music *Complimentary lunch to those who attend  (First 300 registrants)
X-ALT-DESC;FMTTYPE=text/html:The Elderwerks Education and Resource Senior Fair is an expo of education\, services and products geared to active seniors as well as a day of fun and entertainment *9 free seminars on elder law topics\, financial topics and health related issues *Wellness screenings *Meet your local resources *Listen to music *Complimentary lunch to those who attend  (First 300 registrants)
LOCATION:McHenry County College 8900 US Hwy 14\, Crystal Lake
UID:e.138.6622
SEQUENCE:3
DTSTAMP:20260422T075005Z
URL:https://carygrovechamber-gz26-gzcms.preview.gochambermaster.com/events/details/elderwerks-education-and-resource-senior-fair-08-10-2016-6622
END:VEVENT

END:VCALENDAR
