BEGIN:VCALENDAR
VERSION:2.0
PRODID:-//ChamberMaster//Event Calendar 2.0//EN
METHOD:PUBLISH
X-PUBLISHED-TTL:P3D
REFRESH-INTERVAL:P3D
CALSCALE:GREGORIAN
BEGIN:VEVENT
DTSTART:20160623T000000Z
DTEND:20160623T020000Z
X-MICROSOFT-CDO-ALLDAYEVENT:FALSE
SUMMARY:Entrepreneurship: Your Path to Independence
DESCRIPTION:The Cary Grove Referral Network\n\npresents:\n\nEntrepreneurship:\n\nYour Path to Independence\n\nJune 22\, 2016\n\n7:00 p.m.\n\nAlgonquin Township Office & Recycling Center\n\n3702 US-14\, Crystal Lake\, IL 60014\n\nStarting your own business or non-profit may be easier than you think.\n\nAttend this free seminar to learn the steps to creating your independent future and\n\ndiscover the wealth of resources right here to help you achieve this goal.\n\n\n\nThis event is free and open to the community as part of a Cary Grove Referral\n\nNetwork business series in collaboration with the Illinois Small Business\n\nDevelopment Center located at MCC's Shah Center in McHenry.
X-ALT-DESC;FMTTYPE=text/html:<div style="text-align: center\;"><span style="font-size:16px"><strong>The Cary Grove Referral Network<br />\npresents:</strong></span><br />\n<span style="color:#008000"><span style="font-size:22px">Entrepreneurship:</span><br />\n<span style="font-size:22px">Your Path to Independence</span></span><br />\n<span style="font-size:14px">June 22\, 2016<br />\n7:00 p.m.<br />\nAlgonquin Township Office &amp\; Recycling Center<br />\n3702 US-14\, Crystal Lake\, IL 60014</span><br />\n<span style="font-size:16px">Starting your own business or non-profit may be easier than you think.<br />\nAttend this free seminar to learn the steps to creating your independent future and<br />\ndiscover the wealth of resources right here to help you achieve this goal.<br />\n<br />\nThis event is free and open to the community as part of a Cary Grove Referral<br />\nNetwork business series in collaboration with the Illinois Small Business<br />\nDevelopment Center located at MCC&rsquo\;s Shah Center in McHenry.</span></div>\n
LOCATION:Algonquin Township Office & Recycling Center 3702 US-14\, Crystal Lake\, IL 60014
UID:e.138.6638
SEQUENCE:3
DTSTAMP:20260422T160149Z
URL:https://carygrovechamber-gz26-gzcms.preview.gochambermaster.com/events/details/entrepreneurship-your-path-to-independence-06-22-2016-6638
END:VEVENT

END:VCALENDAR
