BEGIN:VCALENDAR
VERSION:2.0
PRODID:-//ChamberMaster//Event Calendar 2.0//EN
METHOD:PUBLISH
X-PUBLISHED-TTL:P3D
REFRESH-INTERVAL:P3D
CALSCALE:GREGORIAN
BEGIN:VEVENT
DTSTART:20140111T160000Z
DTEND:20140111T200000Z
X-MICROSOFT-CDO-ALLDAYEVENT:FALSE
SUMMARY:Event at Nature's Balance Acupuncture
DESCRIPTION:Lose Weight and Feel Great in 2014!\n\nNature's Balance   Weight Loss Day. January 11\, 2014\, 10:00am - 2:00pm\, 11:00am FREE Lecture. "Weight Loss: The Nature's Balance Weigh". FREE: Chair massages\, Auricular acupuncture treatments\, Sauna treatments\, Mini-Formostar sessions\, Healthy snacks\, Health screening for all who come!  Call to register for the lecture: 815-788-8383.
X-ALT-DESC;FMTTYPE=text/html:<font face="Arial" size="2"><font color="#660066"><b><font face="Arial">Lose Weight and Feel Great in 2014!</font></b><br />\n<span style="font-size: small\;"><font face="Arial"><span class="auto-style1"><span style="color: rgb(0\, 0\, 0)\; font-weight: bold\;">Nature&rsquo\;s Balance </span></span></font> <span class="auto-style1"> <span style="color: rgb(0\, 0\, 0)\;"><b>Weight Loss Day. January 11\, 2014\, 10:00am - 2:00pm\,</b> <b>11:00am FREE Lecture.</b> &quot\;Weight Loss: The Nature&#39\;s Balance Weigh&quot\;. <b>FREE:</b> Chair massages\, Auricular acupuncture treatments\, Sauna treatments\, Mini-Formostar sessions\, Healthy snacks\, Health screening for all who come!</span></span></span></font></font>&nbsp\; Call to register for the lecture: 815-788-8383. 
LOCATION:Nature's Balance Acupuncture\, 820 E. Terra Cotta Avenue\, Crystal Lake\, IL 60014
UID:e.138.4244
SEQUENCE:3
DTSTAMP:20260425T143009Z
URL:https://carygrovechamber-gz26-gzcms.preview.gochambermaster.com/events/details/event-at-nature-s-balance-acupuncture-01-11-2014-4244
END:VEVENT

END:VCALENDAR
