BEGIN:VCALENDAR
VERSION:2.0
PRODID:-//ChamberMaster//Event Calendar 2.0//EN
METHOD:PUBLISH
X-PUBLISHED-TTL:P3D
REFRESH-INTERVAL:P3D
CALSCALE:GREGORIAN
BEGIN:VEVENT
DTSTART:20130627T133000Z
DTEND:20130627T133000Z
X-MICROSOFT-CDO-ALLDAYEVENT:FALSE
SUMMARY:Exploring the Piano One Key at a Time presented by Michael Peck
DESCRIPTION:Price includes 1 ticket to each of the events during The National Piano Conference at Raue Center\n\nClass size limited to 25
X-ALT-DESC;FMTTYPE=text/html:Price includes 1 ticket to each of the events during The National Piano Conference at Raue Center<br />\nClass size limited to 25
LOCATION:Raue Center for the Arts 26 N. Williams St. Crystal Lake
UID:e.138.3817
SEQUENCE:3
DTSTAMP:20260426T012054Z
URL:https://carygrovechamber-gz26-gzcms.preview.gochambermaster.com/events/details/exploring-the-piano-one-key-at-a-time-presented-by-michael-peck-06-27-2013-3817
END:VEVENT

END:VCALENDAR
