BEGIN:VCALENDAR
VERSION:2.0
PRODID:-//ChamberMaster//Event Calendar 2.0//EN
METHOD:PUBLISH
X-PUBLISHED-TTL:P3D
REFRESH-INTERVAL:P3D
CALSCALE:GREGORIAN
BEGIN:VEVENT
DTSTART:20160519T150000Z
DTEND:20160520T030000Z
X-MICROSOFT-CDO-ALLDAYEVENT:FALSE
SUMMARY:F.O.C.A.L. Fundraiser at Culvers\, C.L.
DESCRIPTION:FOCAL will be conducting a Crystal Lake Culver's fundraiser on Thursday\, May 19\; 10% of the entire day's sales will benefit the Friends\; FOCAL members will serve from 5-8 pm. F.O.C.A.L. (Friends of the Cary Area Library) is a non-profit group who assist the library by helping it purchase items and programs that are not in the regular budget. They also make two $500 scholarships available to local high school seniors annually.
X-ALT-DESC;FMTTYPE=text/html:FOCAL will be conducting a Crystal Lake Culver&#39\;s fundraiser on Thursday\, May 19\; 10% of the entire day&#39\;s sales will benefit the Friends\; FOCAL members will serve from 5-8 pm. F.O.C.A.L. (Friends of the Cary Area Library) is a non-profit group who assist the library by helping it purchase items and programs that are not in the regular budget. They also make two $500 scholarships available to local high school seniors annually.
LOCATION:Culvers 501 Pingree Rd. Crystal Lake\, IL 60014
UID:e.138.6579
SEQUENCE:3
DTSTAMP:20260422T160148Z
URL:https://carygrovechamber-gz26-gzcms.preview.gochambermaster.com/events/details/f-o-c-a-l-fundraiser-at-culvers-c-l-05-19-2016-6579
END:VEVENT

END:VCALENDAR
