BEGIN:VCALENDAR
VERSION:2.0
PRODID:-//ChamberMaster//Event Calendar 2.0//EN
METHOD:PUBLISH
X-PUBLISHED-TTL:P3D
REFRESH-INTERVAL:P3D
CALSCALE:GREGORIAN
BEGIN:VEVENT
DTSTART:20180812T010000Z
DTEND:20180812T040000Z
X-MICROSOFT-CDO-ALLDAYEVENT:FALSE
SUMMARY:Fleet 17 "Venetian Night"
DESCRIPTION:Fleet 17 Annual Venetian Night on the Fox River!
X-ALT-DESC;FMTTYPE=text/html:Fleet 17 Annual Venetian Night on the Fox River!
LOCATION:Port Edward's restaurant in Algonquin and ending at Kief's Reef in McHenry
UID:e.138.8801
SEQUENCE:3
DTSTAMP:20260420T072042Z
URL:https://carygrovechamber-gz26-gzcms.preview.gochambermaster.com/events/details/fleet-17-venetian-night-8801
END:VEVENT

END:VCALENDAR
