BEGIN:VCALENDAR
VERSION:2.0
PRODID:-//ChamberMaster//Event Calendar 2.0//EN
METHOD:PUBLISH
X-PUBLISHED-TTL:P3D
REFRESH-INTERVAL:P3D
CALSCALE:GREGORIAN
BEGIN:VEVENT
DTSTART:20181021T020000Z
DTEND:20181021T220000Z
X-MICROSOFT-CDO-ALLDAYEVENT:FALSE
SUMMARY:FOCAL Used Book Sale
DESCRIPTION:The Friends of the Cary Area Library host their Spring Used Book Sale at the library on Sat. & Sun.\, October 20 (9-5) and October 21 (1-5). Bargains galore on used books\, DVDs\, & CDs. Many children's items available! Teachers with ID get a discount! Come early & bring a friend.
X-ALT-DESC;FMTTYPE=text/html:The Friends of the Cary Area Library host their Spring Used Book Sale at the library on Sat. &amp\; Sun.\, October 20 (9-5) and October 21 (1-5). Bargains galore on used books\, DVDs\, &amp\; CDs. Many children&#39\;s items available! Teachers with ID get a discount! Come early &amp\; bring a friend.
LOCATION:Cary Area Public Library 1606 Three Oaks Rd. Cary\, IL 60013
UID:e.138.7709
SEQUENCE:3
DTSTAMP:20260420T053832Z
URL:https://carygrovechamber-gz26-gzcms.preview.gochambermaster.com/events/details/focal-used-book-sale-7709
END:VEVENT

END:VCALENDAR
