BEGIN:VCALENDAR
VERSION:2.0
PRODID:-//ChamberMaster//Event Calendar 2.0//EN
METHOD:PUBLISH
X-PUBLISHED-TTL:P3D
REFRESH-INTERVAL:P3D
CALSCALE:GREGORIAN
BEGIN:VEVENT
DTSTART;VALUE=DATE:20190630
DTEND;VALUE=DATE:20190701
TRANSP:TRANSPARENT
X-MICROSOFT-CDO-ALLDAYEVENT:TRUE
SUMMARY:Fox River Grove 100th Year Celebration Baseball Game
DESCRIPTION:Stay Tuned for More Information
X-ALT-DESC;FMTTYPE=text/html:Stay Tuned for More Information
LOCATION:Algonquin Road School
UID:e.138.9444
SEQUENCE:3
DTSTAMP:20260419T164427Z
URL:https://carygrovechamber-gz26-gzcms.preview.gochambermaster.com/events/details/fox-river-grove-100th-year-celebration-baseball-game-9444
END:VEVENT

END:VCALENDAR
