BEGIN:VCALENDAR
VERSION:2.0
PRODID:-//ChamberMaster//Event Calendar 2.0//EN
METHOD:PUBLISH
X-PUBLISHED-TTL:P3D
REFRESH-INTERVAL:P3D
CALSCALE:GREGORIAN
BEGIN:VEVENT
DTSTART:20181117T010000Z
DTEND:20181117T050000Z
X-MICROSOFT-CDO-ALLDAYEVENT:FALSE
SUMMARY:Fox River Grove Fire Department Turkey Raffle
DESCRIPTION:Join us for the Fox River Groves Annual Turkey Raffle!\n\nDoor Prizes\, Food and Beverages!\n\nAn evening of fun and fellowship!
X-ALT-DESC;FMTTYPE=text/html:<div>Join us for the Fox River Groves Annual Turkey Raffle!</div>\n\n<div>Door Prizes\, Food and Beverages!</div>\n\n<div>An evening of fun and fellowship!</div>\n
LOCATION:The FRG Fire Station 411 Algonquin Road Fox River Grove\, IL
UID:e.138.9425
SEQUENCE:3
DTSTAMP:20260420T053831Z
URL:https://carygrovechamber-gz26-gzcms.preview.gochambermaster.com/events/details/fox-river-grove-fire-department-turkey-raffle-9425
END:VEVENT

END:VCALENDAR
