BEGIN:VCALENDAR
VERSION:2.0
PRODID:-//ChamberMaster//Event Calendar 2.0//EN
METHOD:PUBLISH
X-PUBLISHED-TTL:P3D
REFRESH-INTERVAL:P3D
CALSCALE:GREGORIAN
BEGIN:VEVENT
DTSTART:20190707T180000Z
DTEND:20190707T200000Z
X-MICROSOFT-CDO-ALLDAYEVENT:FALSE
SUMMARY:Fox River Grove Fire Fighters Water Fights
DESCRIPTION:The Fox River Grove Fire Fighters Association is having their Water Fights on Sunday\, July 7 at 1 p.m. at the Picnic Grove Park along the Fox River.To reach the fire department\, call (847) 639-9232.
X-ALT-DESC;FMTTYPE=text/html:The Fox River Grove Fire Fighters Association is having their Water Fights on Sunday\, July 7 at 1 p.m. at the Picnic Grove Park along the Fox River.To reach the fire department\, call (847) 639-9232.
LOCATION:Picnic Grove Park along the Fox River
UID:e.138.501
SEQUENCE:3
DTSTAMP:20260419T170655Z
URL:https://carygrovechamber-gz26-gzcms.preview.gochambermaster.com/events/details/fox-river-grove-fire-fighters-water-fights-07-12-2009-501
END:VEVENT

END:VCALENDAR
