BEGIN:VCALENDAR
VERSION:2.0
PRODID:-//ChamberMaster//Event Calendar 2.0//EN
METHOD:PUBLISH
X-PUBLISHED-TTL:P3D
REFRESH-INTERVAL:P3D
CALSCALE:GREGORIAN
BEGIN:VEVENT
DTSTART:20150711T230000Z
DTEND:20150712T030000Z
X-MICROSOFT-CDO-ALLDAYEVENT:FALSE
SUMMARY:Fox River Grove Fireworks
DESCRIPTION:Annual fireworks show at Picnic Grove Park on the Fox River. The park opens and festivities begin at 6pm. Entrance to the park is FREE. There will be food and drink available for purchase and a DJ with music. Come early with your blankets and chairs to have dinner\, visit with friends and family\, and listen to the music before the fireworks. The Special Events Committee will be selling Rock the Routes souvenir tshirts and the Lioness Club will be selling glow-in-the-dark necklaces. Walk on over or take one of the three FREE shuttle buses that will be available as no parking is allowed in or near the park. View the summer edition of the village newsletter on the village website at www.foxrivergrove.org for detailed shuttle bus route info
X-ALT-DESC;FMTTYPE=text/html:<span style="color: rgb(20\, 24\, 35)\; font-family: helvetica\, arial\, sans-serif\; font-size: 14px\; line-height: 17.5636348724365px\; background-color: rgb(255\, 255\, 255)\;">Annual fireworks show at Picnic Grove Park on the Fox River. The park opens and festivities begin at 6pm. Entrance to the park is FREE. There will be food and drink available for purchase and a DJ with music. Come early with your blankets and chairs to have dinner\, visit with friends and family\, and listen to the music before the fireworks. The Special Events Committee will be selling Rock the Routes souvenir tshirts and the Lioness Club will be selling glow-in-the-dark necklaces. Walk on over or take one of the three FREE shuttle buses that will be available as no parking is allowed in or near the park. View the summer edition of the village newsletter on the village website at&nbsp\;</span><a href="http://l.facebook.com/l.php?u=http%3A%2F%2Fwww.foxrivergrove.org%2F&amp\;h=5AQEKcNMR&amp\;enc=AZM0c_TgUqv71-5mFxqaBaZ5t91sn1J9J_rk-T8H3iwRY-gOazjp6QbaA69E2I0_3Z2qtVbq-ddb5tlJZn99MgJcFbG-PbENWms7fTXsyU7uAhbcH5VQc1mhAYrNcYvm0kPGdUp0n2GygToepdT67JsvKT3fgUC2k9bsTRqyG1zOQpCzoCje1zhKt5ObjULcNVMMVSjj6_YsX14Eurl31soG&amp\;s=1" rel="nofollow" style="color: rgb(59\, 89\, 152)\; cursor: pointer\; text-decoration: none\; font-family: helvetica\, arial\, sans-serif\; font-size: 14px\; line-height: 17.5636348724365px\; background-color: rgb(255\, 255\, 255)\;" target="_blank">www.foxrivergrove.org</a><span style="color: rgb(20\, 24\, 35)\; font-family: helvetica\, arial\, sans-serif\; font-size: 14px\; line-height: 17.5636348724365px\; background-color: rgb(255\, 255\, 255)\;">&nbsp\;for detailed shuttle bus route info</span>\n\n<div>&nbsp\;</div>\n
LOCATION:Picnic Grove Park\, Birch Lane
UID:e.138.5953
SEQUENCE:3
DTSTAMP:20260423T145136Z
URL:https://carygrovechamber-gz26-gzcms.preview.gochambermaster.com/events/details/fox-river-grove-fireworks-07-11-2015-5953
END:VEVENT

END:VCALENDAR
