BEGIN:VCALENDAR
VERSION:2.0
PRODID:-//ChamberMaster//Event Calendar 2.0//EN
METHOD:PUBLISH
X-PUBLISHED-TTL:P3D
REFRESH-INTERVAL:P3D
CALSCALE:GREGORIAN
BEGIN:VEVENT
DTSTART:20181020T000000Z
DTEND:20181020T020000Z
X-MICROSOFT-CDO-ALLDAYEVENT:FALSE
SUMMARY:Fox River Grove Library Grand Reopening Celebration Evening Event
DESCRIPTION:The Fox River Grove Public Library Board of Trustees invites you to a Grand Reopening celebration! As someone who cares deeply about our community and our Library\, we would be honored to celebrate with you. Please join us for a very special\, 21-and-over-only event featuring tours of the renovated facility\, music\, food\, and adult beverages.\n\nFox River Grove Public Library\n\nGrand Reopening Celebration\n\nFriday\, October 19\, 2018\n\n7:00 p.m. to 9:00 p.m. (Last Call 8:30 p.m.)\n\n407 Lincoln Avenue\, Fox River Grove\n\nGenerously Sponsored by Cary Alehouse\, Grover's Bar and Grill\, Kelsey Roadhouse\, Crystal Lake Brewing\, Armanetti\, and Jewel-Osco\n\nRSVP: Please register for this free\, 21-and-over-only event by emailing Library Director Nicole Steeves at nsteeves@frgml.org or calling 847-639-2274 by Friday\, October 12.\n\n \n\nWhat's New at Your Library?\n\nMajor Facilities Improvements\n\n\n	\n	Modernized elevator\n	\n	\n	ADA-accessible family bathroom on the main floor\n	\n	\n	New paint and carpet throughout the building\n	\n	\n	Fully exterior bookdrop\n	\n	\n	Safety improvements in Youth Services\n	\n	\n	New furniture in our Fireplace Reading Lounge\n	\n\n\n \n\nNew and Improved Services and Materials\n\n\n	\n	New printer/copier and touchscreen pay station for easier and faster printing from public computers\n	\n	\n	Acceptance of credit card payments\n	\n	\n	Book Club Book Bags available for book groups to check out\n	\n	\n	Board games to play in the Library\n	\n	\n	New STEM kits and tablets funded by a PTO grant\n	\n	\n	New projector and screen to show hit movies\n	\n	\n	Umbrellas and snow scrapers to check out when the weather gives a surprise\n	\n	\n	Revamped fine forgiveness program to help our neighbors and students in need more than ever
X-ALT-DESC;FMTTYPE=text/html:<p><span style="font-size:12px\;"><span style="color:#333333\;"><span style="font-family:arial\,sans-serif\;">The Fox River Grove Public Library Board of Trustees invites you to a Grand Reopening celebration! As someone who cares deeply about our community and our Library\, we would be honored to celebrate with you.&nbsp\;Please join us for a very special\, 21-and-over-only event featuring tours of the renovated facility\, music\, food\, and adult beverages.</span></span><br />\n<span style="color:#333333\;"><span style="font-family:arial\,sans-serif\;">Fox River Grove Public Library</span></span><br />\n<span style="color:#333333\;"><span style="font-family:arial\,sans-serif\;">Grand Reopening Celebration</span></span><br />\n<span style="color:#333333\;"><span style="font-family:arial\,sans-serif\;"><span data-term="goog_1157896536" style="border-bottom:1px dashed rgb(204\, 204\, 204)\;position:relative\;top:-2px\;z-index:0\;" tabindex="0"><span style="position:relative\;top:2px\;z-index:-1\;">Friday\, October 19\, 2018</span></span></span></span><br />\n<span style="color:#333333\;"><span style="font-family:arial\,sans-serif\;"><span data-term="goog_1157896537" style="border-bottom:1px dashed rgb(204\, 204\, 204)\;position:relative\;top:-2px\;z-index:0\;" tabindex="0"><span style="position:relative\;top:2px\;z-index:-1\;">7:00 p.m. to 9:00 p.m.</span></span>&nbsp\;(Last Call&nbsp\;<span data-term="goog_1157896538" style="border-bottom:1px dashed rgb(204\, 204\, 204)\;position:relative\;top:-2px\;z-index:0\;" tabindex="0"><span style="position:relative\;top:2px\;z-index:-1\;">8:30 p.m.</span></span>)</span></span><br />\n<span style="color:#333333\;"><span style="font-family:arial\,sans-serif\;">407 Lincoln Avenue\, Fox River Grove</span></span><br />\n<span style="color:#333333\;"><span style="font-family:arial\,sans-serif\;">Generously Sponsored by Cary Alehouse\, Grover&rsquo\;s Bar and Grill\, Kelsey Roadhouse\, Crystal Lake Brewing\, Armanetti\, and Jewel-Osco</span></span><br />\n<span style="color:#333333\;"><span style="font-family:arial\,sans-serif\;">RSVP:&nbsp\;Please register for this free\, 21-and-over-only event by emailing Library Director Nicole Steeves at&nbsp\;</span></span><span style="font-family:arial\,sans-serif\;"><a href="mailto:nsteeves@frgml.org" style="color:rgb(17\, 85\, 204)\;" target="_blank">nsteeves@frgml.org</a>&nbsp\;<span style="color:#333333\;">or calling 847-639-2274 by&nbsp\;<span data-term="goog_1157896539" style="border-bottom:1px dashed rgb(204\, 204\, 204)\;position:relative\;top:-2px\;z-index:0\;" tabindex="0"><span style="position:relative\;top:2px\;z-index:-1\;">Friday\, October 12</span></span>.</span></span><br />\n&nbsp\;<br />\n<span style="color:#333333\;"><span style="font-family:arial\,sans-serif\;">What&rsquo\;s New at Your Library?</span></span><br />\n<span style="color:#333333\;"><span style="font-family:arial\,sans-serif\;">Major Facilities Improvements</span></span></span></p>\n\n<ul>\n	<li style="font-size:12pt\;font-family:Times New Roman\, serif\;color:rgb(51\, 51\, 51)\;line-height:18.4px\;">\n	<p><span style="font-size:12px\;"><span style="font-family:arial\,sans-serif\;">Modernized elevator</span></span></p>\n	</li>\n	<li style="font-size:12pt\;font-family:Times New Roman\, serif\;color:rgb(51\, 51\, 51)\;line-height:18.4px\;">\n	<p><span style="font-size:12px\;"><span style="font-family:arial\,sans-serif\;">ADA-accessible family bathroom on the main floor</span></span></p>\n	</li>\n	<li style="font-size:12pt\;font-family:Times New Roman\, serif\;color:rgb(51\, 51\, 51)\;line-height:18.4px\;">\n	<p><span style="font-size:12px\;"><span style="font-family:arial\,sans-serif\;">New paint and carpet throughout the building</span></span></p>\n	</li>\n	<li style="font-size:12pt\;font-family:Times New Roman\, serif\;color:rgb(51\, 51\, 51)\;line-height:18.4px\;">\n	<p><span style="font-size:12px\;"><span style="font-family:arial\,sans-serif\;">Fully exterior bookdrop</span></span></p>\n	</li>\n	<li style="font-size:12pt\;font-family:Times New Roman\, serif\;color:rgb(51\, 51\, 51)\;line-height:18.4px\;">\n	<p><span style="font-size:12px\;"><span style="font-family:arial\,sans-serif\;">Safety improvements in Youth Services</span></span></p>\n	</li>\n	<li style="font-size:12pt\;font-family:Times New Roman\, serif\;color:rgb(51\, 51\, 51)\;line-height:18.4px\;">\n	<p><span style="font-size:12px\;"><span style="font-family:arial\,sans-serif\;">New furniture in our Fireplace Reading Lounge</span></span></p>\n	</li>\n</ul>\n\n<p><span style="font-size:12px\;">&nbsp\;<br />\n<span style="color:#333333\;"><span style="font-family:arial\,sans-serif\;">New and Improved Services and Materials</span></span></span></p>\n\n<ul>\n	<li style="font-size:12pt\;font-family:Times New Roman\, serif\;color:rgb(51\, 51\, 51)\;line-height:18.4px\;">\n	<p><span style="font-size:12px\;"><span style="font-family:arial\,sans-serif\;">New printer/copier and touchscreen pay station for easier and faster printing from public computers</span></span></p>\n	</li>\n	<li style="font-size:12pt\;font-family:Times New Roman\, serif\;color:rgb(51\, 51\, 51)\;line-height:18.4px\;">\n	<p><span style="font-size:12px\;"><span style="font-family:arial\,sans-serif\;">Acceptance of credit card payments</span></span></p>\n	</li>\n	<li style="font-size:12pt\;font-family:Times New Roman\, serif\;color:rgb(51\, 51\, 51)\;line-height:18.4px\;">\n	<p><span style="font-size:12px\;"><span style="font-family:arial\,sans-serif\;">Book Club Book Bags available for book groups to check out</span></span></p>\n	</li>\n	<li style="font-size:12pt\;font-family:Times New Roman\, serif\;color:rgb(51\, 51\, 51)\;line-height:18.4px\;">\n	<p><span style="font-size:12px\;"><span style="font-family:arial\,sans-serif\;">Board games to play in the Library</span></span></p>\n	</li>\n	<li style="font-size:12pt\;font-family:Times New Roman\, serif\;color:rgb(51\, 51\, 51)\;line-height:18.4px\;">\n	<p><span style="font-size:12px\;"><span style="font-family:arial\,sans-serif\;">New STEM kits and tablets funded by a PTO grant</span></span></p>\n	</li>\n	<li style="font-size:12pt\;font-family:Times New Roman\, serif\;color:rgb(51\, 51\, 51)\;line-height:18.4px\;">\n	<p><span style="font-size:12px\;"><span style="font-family:arial\,sans-serif\;">New projector and screen to show hit movies</span></span></p>\n	</li>\n	<li style="font-size:12pt\;font-family:Times New Roman\, serif\;color:rgb(51\, 51\, 51)\;line-height:18.4px\;">\n	<p><span style="font-size:12px\;"><span style="font-family:arial\,sans-serif\;">Umbrellas and snow scrapers to check out when the weather gives a surprise</span></span></p>\n	</li>\n	<li style="font-size:12pt\;font-family:Times New Roman\, serif\;line-height:18.4px\;">\n	<p><span style="font-size:12px\;"><span style="color:#333333\;"><span style="font-family:arial\,sans-serif\;">Revamped fine forgiveness program to help our neighbors and students in need more than ever</span></span></span></p>\n	</li>\n</ul>\n
LOCATION:407 Lincoln Ave. Fox River Grove
UID:e.138.9399
SEQUENCE:3
DTSTAMP:20260420T053830Z
URL:https://carygrovechamber-gz26-gzcms.preview.gochambermaster.com/events/details/fox-river-grove-library-grand-reopening-celebration-evening-event-9399
END:VEVENT

END:VCALENDAR
