BEGIN:VCALENDAR
VERSION:2.0
PRODID:-//ChamberMaster//Event Calendar 2.0//EN
METHOD:PUBLISH
X-PUBLISHED-TTL:P3D
REFRESH-INTERVAL:P3D
CALSCALE:GREGORIAN
BEGIN:VEVENT
DTSTART:20141206T200000Z
DTEND:20141206T230000Z
X-MICROSOFT-CDO-ALLDAYEVENT:FALSE
SUMMARY:Fox River Grove Tree Lighting Festival
DESCRIPTION:Fox River Grove Tree Lighting Festival December 6\n\n\nThe holiday season kicks off in Fox River Grove this Saturday\, December 6 from 2:00-5:00 p.m. with the Fox River Grove Annual Tree Lighting Festival at Algonquin road School\, 975 Algonquin Rd\, Fox River Grove.  Santa will arrive by fire truck to meet children and have photos taken. There will be horse and wagon rides\, cookies\, hot chocolate\, entertainment and games.
X-ALT-DESC;FMTTYPE=text/html:<div align="center" style="margin: 0in 0in 0pt\;"><strong><font color="#008080" size="5">Fox River Grove Tree Lighting Festival December&nbsp\;6</font></strong></div>\n\n<div style="margin: 0in 0in 0pt\;">\n<p class="MsoNormal" style="margin: 0in 0in 0pt\;"><font face="Times New Roman" size="4"><font size="3"><span style="color: black\; font-family: calibri\;">The holiday season kicks off in Fox River Grove this&nbsp\;Saturday\, <st1:personname w:st="on">Dec</st1:personname>ember 6 from <st1:time hour="14" minute="0" w:st="on">2:00-5:00 </st1:time><st1:time hour="17" minute="0" w:st="on">p.m.</st1:time> with the </span><strong><span style="color: black\; font-family: calibri\; font-weight: normal\; mso-fareast-font-family: batang\; mso-bidi-font-weight: bold\;">Fox River Grove Annual Tree Lighting Festival at </span></strong><st1:street w:st="on"><st1:address w:st="on"><span style="color: black\; font-family: calibri\;">Algonquin road School\, 975 Algonquin Rd\, Fox River Grove</span></st1:address></st1:street><span style="font-family: calibri\;"><font color="#000000">.<span style="color: black\;">&nbsp\;<span style="mso-spacerun: yes\;">&nbsp\;</span>Santa will arrive by fire truck to meet children and have photos taken. There will be horse and wagon rides\, cookies\, hot chocolate\, entertainment and games.</span></font></span></font></font></p>\n</div>\n
LOCATION:
UID:e.138.343
SEQUENCE:3
DTSTAMP:20260424T085649Z
URL:https://carygrovechamber-gz26-gzcms.preview.gochambermaster.com/events/details/fox-river-grove-tree-lighting-festival-12-06-2014-343
END:VEVENT

END:VCALENDAR
