BEGIN:VCALENDAR
VERSION:2.0
PRODID:-//ChamberMaster//Event Calendar 2.0//EN
METHOD:PUBLISH
X-PUBLISHED-TTL:P3D
REFRESH-INTERVAL:P3D
CALSCALE:GREGORIAN
BEGIN:VEVENT
DTSTART:20180417T230000Z
DTEND:20180418T013000Z
X-MICROSOFT-CDO-ALLDAYEVENT:FALSE
SUMMARY:Free Dinner Seminar
DESCRIPTION:Join Mercyhealth for a free dinner seminar discussing diabetes and heart disease. A vegetarian option is available. Seating is limited and reservations are required. Please call by Tuesday\, April 10\, to register by calling (888) 396-3729. Before and after the presentations\, you will have the opportunity to meet one-on-one with a variety of medical providers.
X-ALT-DESC;FMTTYPE=text/html:Join Mercyhealth for a free dinner seminar discussing diabetes and heart disease. A vegetarian option is available. Seating is limited and reservations are required. Please call by Tuesday\, April 10\, to register by calling (888) 396-3729. Before and after the presentations\, you will have the opportunity to meet one-on-one with a variety of medical providers.
LOCATION:Crystal Lake Holiday Inn 800 W. Illinois Rte. 31
UID:e.138.7696
SEQUENCE:3
DTSTAMP:20260420T145751Z
URL:https://carygrovechamber-gz26-gzcms.preview.gochambermaster.com/events/details/free-dinner-seminar-7696
END:VEVENT

END:VCALENDAR
