BEGIN:VCALENDAR
VERSION:2.0
PRODID:-//ChamberMaster//Event Calendar 2.0//EN
METHOD:PUBLISH
X-PUBLISHED-TTL:P3D
REFRESH-INTERVAL:P3D
CALSCALE:GREGORIAN
BEGIN:VEVENT
DTSTART:20131107T003000Z
DTEND:20131107T013000Z
X-MICROSOFT-CDO-ALLDAYEVENT:FALSE
SUMMARY:Free Physician Lecture: Shoulder Joint Replacement: Replacing Pain with Mobility
DESCRIPTION:When medications\, injections and physical therapy are no longer helpful to relieve shoulder pain\, it may be time to consider shoulder joint replacement. Join Dr. Justin Gent\, an independent orthopedic surgeon on the medical staff at Centegra Health System as he discusses the many conditions that can cause shoulder pain and disability. Gent will also discuss how shoulder joint replacement can help increase shoulder mobility and get you back to your everyday activities pain free.
X-ALT-DESC;FMTTYPE=text/html:When medications\, injections and physical therapy are no longer helpful to relieve shoulder pain\, it may be time to consider shoulder joint replacement. Join Dr. Justin Gent\, an independent orthopedic surgeon on the medical staff at Centegra Health System as he discusses the many conditions that can cause shoulder pain and disability. Gent will also discuss how shoulder joint replacement can help increase shoulder mobility and get you back to your everyday activities pain free.
LOCATION:Centegra Health Bridge Fitness Center - Crystal Lake
UID:e.138.4192
SEQUENCE:3
DTSTAMP:20260425T184003Z
URL:https://carygrovechamber-gz26-gzcms.preview.gochambermaster.com/events/details/free-physician-lecture-shoulder-joint-replacement-replacing-pain-with-mobility-11-06-2013-4192
END:VEVENT

END:VCALENDAR
