BEGIN:VCALENDAR
VERSION:2.0
PRODID:-//ChamberMaster//Event Calendar 2.0//EN
METHOD:PUBLISH
X-PUBLISHED-TTL:P3D
REFRESH-INTERVAL:P3D
CALSCALE:GREGORIAN
BEGIN:VEVENT
DTSTART;VALUE=DATE:20131024
DTEND;VALUE=DATE:20131027
TRANSP:TRANSPARENT
X-MICROSOFT-CDO-ALLDAYEVENT:TRUE
SUMMARY:Friends of the Library Fall Book Sale
DESCRIPTION:The Friends will be accepting gently-used book donations beginning Monday\, September 23rd. Proceeds from this sale will be used toward scholarships for graduating high school seniors living in the Fox River Grove Library District. Do you have a passion for books and people? The Friends are always looking for volunteers to help with the book sale. It's a great way to have fun while helping your community.
X-ALT-DESC;FMTTYPE=text/html:The Friends will be accepting gently-used book donations beginning Monday\, September 23rd. Proceeds from this sale will be used toward scholarships for graduating high school seniors living in the Fox River Grove Library District. Do you have a passion for books and people? The Friends are always looking for volunteers to help with the book sale. It&#39\;s a great way to have fun while helping your community. 
LOCATION:Fox River Grove Memorial Library 407 Lincoln Avenue\, Fox River Grove\, IL 60021
UID:e.138.4177
SEQUENCE:3
DTSTAMP:20260425T200159Z
URL:https://carygrovechamber-gz26-gzcms.preview.gochambermaster.com/events/details/friends-of-the-library-fall-book-sale-10-24-2013-4177
END:VEVENT

END:VCALENDAR
