BEGIN:VCALENDAR
VERSION:2.0
PRODID:-//ChamberMaster//Event Calendar 2.0//EN
METHOD:PUBLISH
X-PUBLISHED-TTL:P3D
REFRESH-INTERVAL:P3D
CALSCALE:GREGORIAN
BEGIN:VEVENT
DTSTART:20180621T123000Z
DTEND:20180621T140000Z
X-MICROSOFT-CDO-ALLDAYEVENT:FALSE
SUMMARY:Generational Marketing
DESCRIPTION:Noel Butski\, Digital Marketing for Small Business\, will teach members and guests how to market their business to the Millenials\, Gen x's and Boomers.\n\nWIM3 will also be recognizing the outgoing and incoming Board of Directors for 2018-2019.
X-ALT-DESC;FMTTYPE=text/html:<p>Noel Butski\, Digital Marketing for Small Business\, will teach members and guests how to market their business to the Millenials\, Gen x&#39\;s and Boomers.</p>\n\n<p>WIM3 will also be recognizing the outgoing and incoming Board of Directors for 2018-2019.</p>\n
LOCATION:American Community Bank & Trust Lower Level 381 S. Main St. Crystal Lake\, IL 60014
UID:e.138.7748
SEQUENCE:3
DTSTAMP:20260420T115242Z
URL:https://carygrovechamber-gz26-gzcms.preview.gochambermaster.com/events/details/generational-marketing-7748
END:VEVENT

END:VCALENDAR
