BEGIN:VCALENDAR
VERSION:2.0
PRODID:-//ChamberMaster//Event Calendar 2.0//EN
METHOD:PUBLISH
X-PUBLISHED-TTL:P3D
REFRESH-INTERVAL:P3D
CALSCALE:GREGORIAN
BEGIN:VEVENT
DTSTART:20171221T133000Z
DTEND:20171221T150000Z
X-MICROSOFT-CDO-ALLDAYEVENT:FALSE
SUMMARY:Get Ready for 2018 with MCC's Career Service Department!
DESCRIPTION:Dan Ortego\, Coordinator\, Career Services at McHenry County College\, will lead this informative discussion:\n\n\n	Looking for help?  Learn how to post jobs on the MCC job search board as well as other recruitment opportunities available to promote jobs or internships.\n	Considering an intern?  Learn the benefits of using interns and how to access the program at MCC.\n	Did you know?  Learn about the other services by MCC's Career Service Department.
X-ALT-DESC;FMTTYPE=text/html:<p>Dan Ortego\, Coordinator\, Career Services at McHenry County College\,&nbsp\;will lead this informative discussion:</p>\n\n<ol>\n	<li>Looking for help? &nbsp\;Learn how to post jobs on the MCC job search board as well as other recruitment opportunities available to promote jobs or internships.</li>\n	<li>Considering an intern? &nbsp\;Learn the benefits of using interns and how to access the program at MCC.</li>\n	<li>Did you know? &nbsp\;Learn about the other services by MCC&#39\;s Career Service Department.</li>\n</ol>\n
LOCATION:American Community Bank & Trust Lower Level 381 S. Main St. Crystal Lake\, IL 60014
UID:e.138.7547
SEQUENCE:3
DTSTAMP:20260421T022032Z
URL:https://carygrovechamber-gz26-gzcms.preview.gochambermaster.com/events/details/get-ready-for-2018-with-mcc-s-career-service-department-7547
END:VEVENT

END:VCALENDAR
