BEGIN:VCALENDAR
VERSION:2.0
PRODID:-//ChamberMaster//Event Calendar 2.0//EN
METHOD:PUBLISH
X-PUBLISHED-TTL:P3D
REFRESH-INTERVAL:P3D
CALSCALE:GREGORIAN
BEGIN:VEVENT
DTSTART:20160814T000000Z
DTEND:20160814T020000Z
X-MICROSOFT-CDO-ALLDAYEVENT:FALSE
SUMMARY:Glow Run
DESCRIPTION:Glow Run 2.6K\n\nGet geared-up for the new school year with the Cary 26 Education Foundation at our first annual 2.6K GLOW RUN on Saturday\, August 13 on the grounds at Cary Junior High and Deer Path Elementary School. \n\n \n\nFollowing the 2.6K run\, there will be a 100 yard dash for kids\, separated into age groups.  Awards will be given to the winners.\n\n \n\nJoin us after the Glow Run and 100 yard dash where complimentary pizza and beverages will be served in the Jr. High gymnasium.\n\n\n\n  Located at the Cary Jr. High School\, pre-race activities will start at 7:00pm.  The Glow Run will begin at 8:00pm.  Times for this run will not be recorded.  This is all for fun!\n\n\n\nPacket pickup will be at Galati's Hideaway on August 12th at from 4:00 - 6:00pm.  This event is weather permitting.  There will be no alternative rain date.\n\n*Restrictions - While strollers are permitted for your little ones\, pet's are not allowed.
X-ALT-DESC;FMTTYPE=text/html:<h2 class="wsite-content-title" style="margin: 0px\; padding: 0px 0px 15px\; color: rgb(51\, 51\, 51)\; font-family: Raleway\, serif\; font-size: 26px\; font-weight: 400\; line-height: 1.2em\; background-color: rgb(255\, 255\, 255)\;"><strong>Glow Run 2.6K</strong></h2>\n\n<div><span style="font-size:14px\;"><span style="color: rgb(29\, 33\, 41)\; line-height: 18.76px\; background-color: rgb(255\, 255\, 255)\;">Get geared-up for the new school year with the Cary 26 Education Foundation at our first annual 2.6K GLOW RUN on Saturday\, August 13 on the grounds at Cary Junior High and Deer Path Elementary School.&nbsp\;</span></span></div>\n\n<div>&nbsp\;</div>\n\n<div><span style="font-family:arial\;"><span style="color: rgb(102\, 102\, 102)\; font-size: 16px\; line-height: 24px\; background-color: rgb(255\, 255\, 255)\;">Following the 2.6K run\, there will be a 100 yard&nbsp\;dash for kids\, separated into age groups.&nbsp\; Awards will be given to the winners.</span><br style="color: rgb(102\, 102\, 102)\; font-family: &quot\;Open Sans&quot\;\, sans-serif\; font-size: 16px\; line-height: 24px\; background-color: rgb(255\, 255\, 255)\;" />\n<span id="selectionBoundary_1463411908658_4466138057398187" style="color: rgb(102\, 102\, 102)\; font-size: 16px\; line-height: 24px\; background-color: rgb(255\, 255\, 255)\;">&#65279\;</span><br style="color: rgb(102\, 102\, 102)\; font-family: &quot\;Open Sans&quot\;\, sans-serif\; font-size: 16px\; line-height: 24px\; background-color: rgb(255\, 255\, 255)\;" />\n<span style="color: rgb(102\, 102\, 102)\; font-size: 16px\; line-height: 24px\; background-color: rgb(255\, 255\, 255)\;">Join us after the Glow Run and 100 yard&nbsp\;dash&nbsp\;where complimentary pizza and beverages will be served in the Jr. High gymnasium.</span></span><br style="color: rgb(102\, 102\, 102)\; font-family: &quot\;Open Sans&quot\;\, sans-serif\; font-size: 16px\; line-height: 24px\; background-color: rgb(255\, 255\, 255)\;" />\n<br />\n<span id="selectionBoundary_1463409494257_14147462987817616" style="color: rgb(102\, 102\, 102)\; font-family: &quot\;Open Sans&quot\;\, sans-serif\; font-size: 16px\; line-height: 24px\;">&#65279\;</span><span id="selectionBoundary_1463403289956_16695099335492802" style="color: rgb(102\, 102\, 102)\; font-family: &quot\;Open Sans&quot\;\, sans-serif\; font-size: 16px\; line-height: 24px\;">&#65279\;</span><span style="color: rgb(102\, 102\, 102)\; font-family: &quot\;Open Sans&quot\;\, sans-serif\; font-size: 16px\; line-height: 24px\;">Located at the Cary Jr. High School\, pre-race activities will start at 7:00pm.&nbsp\; The Glow Run will begin at 8:00pm.&nbsp\; Times for this run will not be recorded.&nbsp\; This is all for fun!</span><br style="color: rgb(102\, 102\, 102)\; font-family: &quot\;Open Sans&quot\;\, sans-serif\; font-size: 16px\; line-height: 24px\;" />\n<br style="color: rgb(102\, 102\, 102)\; font-family: &quot\;Open Sans&quot\;\, sans-serif\; font-size: 16px\; line-height: 24px\;" />\n<span style="color: rgb(102\, 102\, 102)\; font-family: &quot\;Open Sans&quot\;\, sans-serif\; font-size: 16px\; line-height: 24px\;">Packet pickup will be at Galati&#39\;s Hideaway on August 12th at from 4:00 - 6:00pm.&nbsp\; This event is weather permitting.&nbsp\; There will be no alternative rain date.</span><br style="color: rgb(102\, 102\, 102)\; font-family: &quot\;Open Sans&quot\;\, sans-serif\; font-size: 16px\; line-height: 24px\; background-color: rgb(255\, 255\, 255)\;" />\n<span style="font-family:arial\;"><em style="position: relative\; color: rgb(102\, 102\, 102)\; font-family: &quot\;Open Sans&quot\;\, sans-serif\; font-size: 16px\; line-height: 24px\; background-color: rgb(255\, 255\, 255)\;">*Restrictions - While strollers are permitted for your little ones\, pet&#39\;s are not allowed.</em></span></div>\n
LOCATION:Located at the Cary Jr. High School\, pre-race activities will start at 7:00pm. The Glow Run will begin at 8:00p
UID:e.138.6723
SEQUENCE:3
DTSTAMP:20260422T060139Z
URL:https://carygrovechamber-gz26-gzcms.preview.gochambermaster.com/events/details/glow-run-08-13-2016-6723
END:VEVENT

END:VCALENDAR
