BEGIN:VCALENDAR
VERSION:2.0
PRODID:-//ChamberMaster//Event Calendar 2.0//EN
METHOD:PUBLISH
X-PUBLISHED-TTL:P3D
REFRESH-INTERVAL:P3D
CALSCALE:GREGORIAN
BEGIN:VEVENT
DTSTART:20180411T233000Z
DTEND:20180412T003000Z
X-MICROSOFT-CDO-ALLDAYEVENT:FALSE
SUMMARY:Gold and Coin Appraisals with Dave Ekstrom
DESCRIPTION:WHAT ARE YOUR OLD COINS AND GOLD OR SILVER JEWELRY WORTH? Dave Ekstrom\, a lifelong coin collector and member of the American Numismatic Association will offer a presentation on coin collecting and gold and silver values. You will also have an opportunity to have up to three coins\, gold and/or silver items appraised for free after the presentation. Registration is required.
X-ALT-DESC;FMTTYPE=text/html:WHAT ARE YOUR OLD COINS AND GOLD OR SILVER JEWELRY WORTH? Dave Ekstrom\, a lifelong coin collector and member of the American Numismatic Association will offer a presentation on coin collecting and gold and silver values. You will also have an opportunity to have up to three coins\, gold and/or silver items appraised for free after the presentation. Registration is required.
LOCATION:Fox River Grove Memorial Library 407 Lincoln Ave.\, Fox River Grove\, IL 60021
UID:e.138.7661
SEQUENCE:3
DTSTAMP:20260420T161716Z
URL:https://carygrovechamber-gz26-gzcms.preview.gochambermaster.com/events/details/gold-and-coin-appraisals-with-dave-ekstrom-7661
END:VEVENT

END:VCALENDAR
