BEGIN:VCALENDAR
VERSION:2.0
PRODID:-//ChamberMaster//Event Calendar 2.0//EN
METHOD:PUBLISH
X-PUBLISHED-TTL:P3D
REFRESH-INTERVAL:P3D
CALSCALE:GREGORIAN
BEGIN:VEVENT
DTSTART:20151030T020000Z
DTEND:20151030T030000Z
X-MICROSOFT-CDO-ALLDAYEVENT:FALSE
SUMMARY:Halloween Hoedown
DESCRIPTION:SS. Peter & Paul Catholic School?s Halloween Hoedown! This FREE fun filled event is for all two\, three\, and four year-old children in the Cary-Grove and surrounding communities. For the kids\, this ?Peanuts? themed event will include: Story time\, a pumpkin craft\, pumpkin bowling\, and refreshments. Costumes are encouraged. Parents can learn about SS. Peter & Paul Catholic School & Preschool\, and tours of the school will be available upon request. Please register for one of the events: 9:00-10:00 or 1:00-2:00 Please be sure to invite all your friends!
X-ALT-DESC;FMTTYPE=text/html:SS. Peter &amp\; Paul Catholic School?s Halloween Hoedown! This FREE fun filled event is for all two\, three\, and four year-old children in the Cary-Grove and surrounding communities. For the kids\, this ?Peanuts? themed event will include: Story time\, a pumpkin craft\, pumpkin bowling\, and refreshments. Costumes are encouraged. Parents can learn about SS. Peter &amp\; Paul Catholic School &amp\; Preschool\, and tours of the school will be available upon request. Please register for one of the events: 9:00-10:00 or 1:00-2:00 Please be sure to invite all your friends!
LOCATION:SS Peter & Paul Catholic School 416 N. First St. Cary\, Il 60013
UID:e.138.6415
SEQUENCE:3
DTSTAMP:20260423T072630Z
URL:https://carygrovechamber-gz26-gzcms.preview.gochambermaster.com/events/details/halloween-hoedown-10-29-2015-6415
END:VEVENT

END:VCALENDAR
