BEGIN:VCALENDAR
VERSION:2.0
PRODID:-//ChamberMaster//Event Calendar 2.0//EN
METHOD:PUBLISH
X-PUBLISHED-TTL:P3D
REFRESH-INTERVAL:P3D
CALSCALE:GREGORIAN
BEGIN:VEVENT
DTSTART:20180321T233000Z
DTEND:20180322T003000Z
X-MICROSOFT-CDO-ALLDAYEVENT:FALSE
SUMMARY:How to Pay for College without Going Broke
DESCRIPTION:This unique workshop covers little-known strategies not covered in regular college planning workshops. Don't miss the opportunity to learn new strategies available to families for planning\, saving\, or paying for college strategies that can save you thousands of dollars while finding the best-fit college for your child. Includes new material about important changes that may soon be coming in higher education. Parents and guardians are encouraged to attend this free\, 60-minute seminar presented by My College Planning Team. Registration is required.
X-ALT-DESC;FMTTYPE=text/html:This unique workshop covers little-known strategies not covered in regular college planning workshops. Don&rsquo\;t miss the opportunity to learn new strategies available to families for planning\, saving\, or paying for college&mdash\;strategies that can save you thousands of dollars while finding the best-fit college for your child. Includes new material about important changes that may soon be coming in higher education. Parents and guardians are encouraged to attend this free\, 60-minute seminar presented by My College Planning Team. Registration is required.
LOCATION:Fox River Grove Memorial Library 407 Lincoln Ave. Fox River Grove\, IL 60021
UID:e.138.7660
SEQUENCE:3
DTSTAMP:20260420T174239Z
URL:https://carygrovechamber-gz26-gzcms.preview.gochambermaster.com/events/details/how-to-pay-for-college-without-going-broke-7660
END:VEVENT

END:VCALENDAR
