BEGIN:VCALENDAR
VERSION:2.0
PRODID:-//ChamberMaster//Event Calendar 2.0//EN
METHOD:PUBLISH
X-PUBLISHED-TTL:P3D
REFRESH-INTERVAL:P3D
CALSCALE:GREGORIAN
BEGIN:VEVENT
DTSTART:20180909T141500Z
DTEND:20180909T151500Z
X-MICROSOFT-CDO-ALLDAYEVENT:FALSE
SUMMARY:Intergenerational event (all ages welcome) about PRAYER
DESCRIPTION:Intergenerational event (all ages welcome) about PRAYER Sunday\, September 9th 9:15-10:15am Pastor Sarah will begin the event with a message about prayer. Participants will then journey through a prayer maze labyrinth with hands-on projects and snacks along the way! All are welcome Come and learn more about the St. Barnabas Lutheran Church Christian Education programs: Frolic Nursery for 2-3 year olds Preschool & Kindergarten Class 1st   8th Grade Classes High School Student Group Adult Forum For more information: Jeanne Soberg or Denise Ulaszek 847-639-3959
X-ALT-DESC;FMTTYPE=text/html:Intergenerational event (all ages welcome) about PRAYER Sunday\, September 9th 9:15-10:15am Pastor Sarah will begin the event with a message about prayer. Participants will then journey through a prayer maze labyrinth with hands-on projects and snacks along the way! All are welcome Come and learn more about the St. Barnabas Lutheran Church Christian Education programs: Frolic Nursery for 2-3 year olds Preschool &amp\; Kindergarten Class 1st &ndash\; 8th Grade Classes High School Student Group Adult Forum For more information: Jeanne Soberg or Denise Ulaszek 847-639-3959
LOCATION:St. Barnabas Lutheran Church 8901 S. Cary-Algonquin Road Cary\, IL 60013
UID:e.138.9295
SEQUENCE:3
DTSTAMP:20260420T053751Z
URL:https://carygrovechamber-gz26-gzcms.preview.gochambermaster.com/events/details/intergenerational-event-all-ages-welcome-about-prayer-9295
END:VEVENT

END:VCALENDAR
